BEGIN:VCALENDAR
VERSION:2.0
PRODID:-//Casa del Barrio  de Carabanchel - ECPv6.15.20//NONSGML v1.0//EN
CALSCALE:GREGORIAN
METHOD:PUBLISH
X-WR-CALNAME:Casa del Barrio  de Carabanchel
X-ORIGINAL-URL:https://casadelbarriocarabanchel.es
X-WR-CALDESC:Eventos para Casa del Barrio  de Carabanchel
REFRESH-INTERVAL;VALUE=DURATION:PT1H
X-Robots-Tag:noindex
X-PUBLISHED-TTL:PT1H
BEGIN:VTIMEZONE
TZID:Europe/Madrid
BEGIN:DAYLIGHT
TZOFFSETFROM:+0100
TZOFFSETTO:+0200
TZNAME:CEST
DTSTART:20250330T010000
END:DAYLIGHT
BEGIN:STANDARD
TZOFFSETFROM:+0200
TZOFFSETTO:+0100
TZNAME:CET
DTSTART:20251026T010000
END:STANDARD
BEGIN:DAYLIGHT
TZOFFSETFROM:+0100
TZOFFSETTO:+0200
TZNAME:CEST
DTSTART:20260329T010000
END:DAYLIGHT
BEGIN:STANDARD
TZOFFSETFROM:+0200
TZOFFSETTO:+0100
TZNAME:CET
DTSTART:20261025T010000
END:STANDARD
BEGIN:DAYLIGHT
TZOFFSETFROM:+0100
TZOFFSETTO:+0200
TZNAME:CEST
DTSTART:20270328T010000
END:DAYLIGHT
BEGIN:STANDARD
TZOFFSETFROM:+0200
TZOFFSETTO:+0100
TZNAME:CET
DTSTART:20271031T010000
END:STANDARD
END:VTIMEZONE
BEGIN:VEVENT
DTSTART;TZID=Europe/Madrid:20260117T000000
DTEND;TZID=Europe/Madrid:20260117T000000
DTSTAMP:20260421T145612
CREATED:20251120T085128Z
LAST-MODIFIED:20251120T085128Z
UID:1010-1768608000-1768608000@casadelbarriocarabanchel.es
SUMMARY:Actividad a favor de Palestina
DESCRIPTION:Horario por confirmar.
URL:https://casadelbarriocarabanchel.es/event/actividad-a-favor-de-palestina/
END:VEVENT
BEGIN:VEVENT
DTSTART;TZID=Europe/Madrid:20260123T180000
DTEND;TZID=Europe/Madrid:20260123T230000
DTSTAMP:20260421T145612
CREATED:20260122T181142Z
LAST-MODIFIED:20260122T181142Z
UID:1075-1769191200-1769209200@casadelbarriocarabanchel.es
SUMMARY:PRESENTACIÓN SINDICATO DE LA VIVIENDA DE CARABANCHEL Y CAMPAÑA CONTRA BLACKSTONE
DESCRIPTION:
URL:https://casadelbarriocarabanchel.es/event/presentacion-sindicato-de-la-vivienda-de-carabanchel-y-campana-contra-blackstone/
END:VEVENT
BEGIN:VEVENT
DTSTART;TZID=Europe/Madrid:20260124T210000
DTEND;TZID=Europe/Madrid:20260124T210000
DTSTAMP:20260421T145612
CREATED:20251126T092655Z
LAST-MODIFIED:20251126T092655Z
UID:1036-1769288400-1769288400@casadelbarriocarabanchel.es
SUMMARY:Concierto "Blues del Foro"
DESCRIPTION:Qué mejor forma de pasar Enero\, que veniros a la Casa del Barrio a participar de un buen sarao. \nEstaremos a trío con la inestimable colaboración de nuestra Sister Merche\, que nos cantará unas coplillas a ritmo de Blues y otras perlas. \nHaremos Jam Session\, para disfrute de los músicos que vayan por allí. \n Os esperamos el sábado 24 de enero. Entrada libre con aportación voluntaria.
URL:https://casadelbarriocarabanchel.es/event/concierto-blues-del-foro/
END:VEVENT
BEGIN:VEVENT
DTSTART;TZID=Europe/Madrid:20260131T193000
DTEND;TZID=Europe/Madrid:20260131T230000
DTSTAMP:20260421T145612
CREATED:20260122T183150Z
LAST-MODIFIED:20260122T183150Z
UID:1082-1769887800-1769900400@casadelbarriocarabanchel.es
SUMMARY:PREFIESTA CARNABANCHEL 2026
DESCRIPTION:El sábado 31 de enero\, a partir de las 19:30\, celebraremos la prefiesta del Carnaval Popular de Carabanchel\, Carnabanchel. Donde disfrutaremos de un Bingo musical y de la presentación del cartel ganador de esta 8ª edición.
URL:https://casadelbarriocarabanchel.es/event/prefiesta-carnabanchel-2026/
END:VEVENT
END:VCALENDAR