BEGIN:VCALENDAR
VERSION:2.0
PRODID:-//Casa del Barrio  de Carabanchel - ECPv6.15.20//NONSGML v1.0//EN
CALSCALE:GREGORIAN
METHOD:PUBLISH
X-ORIGINAL-URL:https://casadelbarriocarabanchel.es
X-WR-CALDESC:Eventos para Casa del Barrio  de Carabanchel
REFRESH-INTERVAL;VALUE=DURATION:PT1H
X-Robots-Tag:noindex
X-PUBLISHED-TTL:PT1H
BEGIN:VTIMEZONE
TZID:Europe/Madrid
BEGIN:DAYLIGHT
TZOFFSETFROM:+0100
TZOFFSETTO:+0200
TZNAME:CEST
DTSTART:20240331T010000
END:DAYLIGHT
BEGIN:STANDARD
TZOFFSETFROM:+0200
TZOFFSETTO:+0100
TZNAME:CET
DTSTART:20241027T010000
END:STANDARD
BEGIN:DAYLIGHT
TZOFFSETFROM:+0100
TZOFFSETTO:+0200
TZNAME:CEST
DTSTART:20250330T010000
END:DAYLIGHT
BEGIN:STANDARD
TZOFFSETFROM:+0200
TZOFFSETTO:+0100
TZNAME:CET
DTSTART:20251026T010000
END:STANDARD
BEGIN:DAYLIGHT
TZOFFSETFROM:+0100
TZOFFSETTO:+0200
TZNAME:CEST
DTSTART:20260329T010000
END:DAYLIGHT
BEGIN:STANDARD
TZOFFSETFROM:+0200
TZOFFSETTO:+0100
TZNAME:CET
DTSTART:20261025T010000
END:STANDARD
END:VTIMEZONE
BEGIN:VEVENT
DTSTART;TZID=Europe/Madrid:20250907T000000
DTEND;TZID=Europe/Madrid:20250907T000000
DTSTAMP:20260421T211929
CREATED:20250718T090216Z
LAST-MODIFIED:20250718T090216Z
UID:849-1757203200-1757203200@casadelbarriocarabanchel.es
SUMMARY:Concierto "Musikben"
DESCRIPTION:Horario por confirmar
URL:https://casadelbarriocarabanchel.es/event/concierto-musikben/
END:VEVENT
BEGIN:VEVENT
DTSTART;TZID=Europe/Madrid:20250920T170000
DTEND;TZID=Europe/Madrid:20250920T230000
DTSTAMP:20260421T211929
CREATED:20250718T090056Z
LAST-MODIFIED:20250909T085252Z
UID:847-1758387600-1758409200@casadelbarriocarabanchel.es
SUMMARY:Fonda cultural artística chilena :  Por la unión de Chile
DESCRIPTION:Dentro de la campaña electoral de Chile que será en noviembre 2025\, les invitamos a asistir a nuestro evento musical\, festivo para chilenos y españoles que nos apoyen para promocionar a Jeannette Jara y a nuestra coalición «Unidad por Chile». \nLes esperamos el sábado 20 de septiembre en Casa del Barrio. \n 
URL:https://casadelbarriocarabanchel.es/event/evento-chileno/
END:VEVENT
BEGIN:VEVENT
DTSTART;TZID=Europe/Madrid:20250927T193000
DTEND;TZID=Europe/Madrid:20250927T193000
DTSTAMP:20260421T211929
CREATED:20250701T100049Z
LAST-MODIFIED:20250918T074718Z
UID:837-1759001400-1759001400@casadelbarriocarabanchel.es
SUMMARY:Teatro: "El centrocampista murió al amanecer"
DESCRIPTION:EL CENTROCAMPISTA MURIO AL AMANECER\nAdaptación de la obra de teatro de Agustín Cuzzani \, escrita en 1955\nComedia negra\, tragicomedia\, surrealismo y como lo define Cuzzani\, “ Farsátira ”: una mezcla de géneros donde el humor se funde con lo trágico de algunas situaciones humanas.\nCon partes más realistas desde donde se cuentan y se combinan con partes más surrealistas y del teatro del absurdo\, las excentricidades a las que te puede llevar un poder mal entendido…..\nSINOPSIS:\nUn futbolista es comprado por una poderosa empresaria pero nada más lejos de su realidad deportiva; porque lo que descubre al llegar al palacio \, fortaleza donde vivirá es que la empresaria le ha comprado para añadirle a la colección que está creando con seres humanos con talentos y profesiones diversas\, para engordar su autoestima y su cuenta bancaria.\nEl futbolista no se resigna como sus compañeras de cautiverio y “ el amor” como motor vital le llevará a luchar por la libertad y en un impulso irracional mata a la empresaria sin pensar en las consecuencias siendo condenado por la justicia a morir también.\nFrase a pie de obra de JULIUS FUCIK “ Reportaje al pie del Patíbulo “ :\n¡ Qué extrañamente construido está el hombre\, que puede soportar hasta lo imposible !
URL:https://casadelbarriocarabanchel.es/event/teatro-2/
END:VEVENT
BEGIN:VEVENT
DTSTART;TZID=Europe/Madrid:20250928T190000
DTEND;TZID=Europe/Madrid:20250928T190000
DTSTAMP:20260421T211929
CREATED:20250718T085707Z
LAST-MODIFIED:20250917T082949Z
UID:843-1759086000-1759086000@casadelbarriocarabanchel.es
SUMMARY:Concierto: "Sobre diez cuerdas"
DESCRIPTION:“Sobre diez cuerdas” nació en enero de 2025 cuando José Manuel y Mª José decidieron unir sus esfuerzo y hacer música juntos. Con gustos musicales parecidos\, mucha paciencia y sobre todo mucho esfuerzo han ido construyendo un repertorio variado\, música pop en distintos estilos e idiomas \, con canciones de todos los tiempos\, eso sí con un estilo propio. \nLas canciones son en acústico\, guitarra y voz\, algunas a dos voces. De aquí deriva nuestro nombre. En algunos temas se añade también algún otro instrumento como la armónica\, el saxo alto y algo de percusión.
URL:https://casadelbarriocarabanchel.es/event/concierto-de-saxo/
END:VEVENT
END:VCALENDAR