BEGIN:VCALENDAR
VERSION:2.0
PRODID:-//Casa del Barrio  de Carabanchel - ECPv6.15.20//NONSGML v1.0//EN
CALSCALE:GREGORIAN
METHOD:PUBLISH
X-WR-CALNAME:Casa del Barrio  de Carabanchel
X-ORIGINAL-URL:https://casadelbarriocarabanchel.es
X-WR-CALDESC:Eventos para Casa del Barrio  de Carabanchel
REFRESH-INTERVAL;VALUE=DURATION:PT1H
X-Robots-Tag:noindex
X-PUBLISHED-TTL:PT1H
BEGIN:VTIMEZONE
TZID:Europe/Madrid
BEGIN:DAYLIGHT
TZOFFSETFROM:+0100
TZOFFSETTO:+0200
TZNAME:CEST
DTSTART:20240331T010000
END:DAYLIGHT
BEGIN:STANDARD
TZOFFSETFROM:+0200
TZOFFSETTO:+0100
TZNAME:CET
DTSTART:20241027T010000
END:STANDARD
BEGIN:DAYLIGHT
TZOFFSETFROM:+0100
TZOFFSETTO:+0200
TZNAME:CEST
DTSTART:20250330T010000
END:DAYLIGHT
BEGIN:STANDARD
TZOFFSETFROM:+0200
TZOFFSETTO:+0100
TZNAME:CET
DTSTART:20251026T010000
END:STANDARD
BEGIN:DAYLIGHT
TZOFFSETFROM:+0100
TZOFFSETTO:+0200
TZNAME:CEST
DTSTART:20260329T010000
END:DAYLIGHT
BEGIN:STANDARD
TZOFFSETFROM:+0200
TZOFFSETTO:+0100
TZNAME:CET
DTSTART:20261025T010000
END:STANDARD
END:VTIMEZONE
BEGIN:VEVENT
DTSTART;TZID=Europe/Madrid:20250509T190000
DTEND;TZID=Europe/Madrid:20250509T190000
DTSTAMP:20260422T033854
CREATED:20250411T090307Z
LAST-MODIFIED:20250503T110807Z
UID:714-1746817200-1746817200@casadelbarriocarabanchel.es
SUMMARY:Encuentro republicano y cuentacuentos
DESCRIPTION:Encuentro Republicano en Carabanchel \n Queremos que en Carabanchel haya un espacio en el que podamos debatir y compartir los valores democráticos y de justicia social que inspiran a las personas que proponemos un régimen republicano\, superador de la actual monarquía corrupta y antidemocrática que tenemos. \nNecesitamos nuevas propuestas de actividades\, sociales\, culturales e incluso lúdicas\, para desarrollar este espacio de encuentro que pretendemos. \nPara ello te invitamos a participar en este encuentro\, que tendrá una segunda parte con picoteo\, música y cuentacuentos. Pueden asistir personas de todas las edades\, y\, como siempre\, la entrada es libre. \nSerá el viernes 9 de mayo\, a partir de las 19h\, en la Casa del Barrio de Carabanchel.
URL:https://casadelbarriocarabanchel.es/event/evento-ateneo-republicano-con-concierto/
END:VEVENT
BEGIN:VEVENT
DTSTART;TZID=Europe/Madrid:20250510T200000
DTEND;TZID=Europe/Madrid:20250510T200000
DTSTAMP:20260422T033854
CREATED:20250213T085817Z
LAST-MODIFIED:20250213T085817Z
UID:589-1746907200-1746907200@casadelbarriocarabanchel.es
SUMMARY:Teatro "Microteatros para irnos al huerto"
DESCRIPTION:La compañía Peripatétikas Vallekanas representa en la Casa del Barrio. \nEl proyecto consta de cuatro piezas de microteatro\, con una duración total de aproximadamente 80 minutos.\nLas piezas se representan en el siguiente orden:\n• Sonrisas y lágrimas sería un título perfecto si no fuera porque ya se ha utilizado. Una obra de Emilio Mahugo Serrano.\n• El llanto de las plantas. Una obra de Almudena Pérez Cruz.\n• Todos los gatos son pardos y a veces crece un huerto en la estación. Una obra de Almudena Pérez Cruz.\n• El extraño caso de un asesinado amarillo. Una obra de Emilio Mahugo Serrano.
URL:https://casadelbarriocarabanchel.es/event/teatro-microteatros-para-irnos-al-huerto/
END:VEVENT
BEGIN:VEVENT
DTSTART;TZID=Europe/Madrid:20250511T190000
DTEND;TZID=Europe/Madrid:20250511T190000
DTSTAMP:20260422T033854
CREATED:20250328T105213Z
LAST-MODIFIED:20250422T092635Z
UID:682-1746990000-1746990000@casadelbarriocarabanchel.es
SUMMARY:Teatro "Macbeth". Producciones Entrecalles
DESCRIPTION:
URL:https://casadelbarriocarabanchel.es/event/teatro-macbeth-compania-entrecalles/
END:VEVENT
BEGIN:VEVENT
DTSTART;TZID=Europe/Madrid:20250516T190000
DTEND;TZID=Europe/Madrid:20250516T190000
DTSTAMP:20260422T033854
CREATED:20250330T122611Z
LAST-MODIFIED:20250330T122611Z
UID:689-1747422000-1747422000@casadelbarriocarabanchel.es
SUMMARY:Recital poético "Daniel Collado: Arbol de líricas"
DESCRIPTION:Daniel Collado Azorín (Madrid\, 1970) es escritor \, poeta y editor outsider. Diplomado en educación musical por la Universidad Complutense\, tiene 13 libros publicados: siete poemarios\, tres antologías\, un libro de relatos\, uno de retales periodísticos y una miscelánea de narrativas bajo el nombre de su alter ego: Teqerucho de Montijo.\nSin embargo\, es outsider porque el sistema rechaza tener sus libros en librerías ya que son autoeditados. De estilo coloquial\, directo\, intimista y con toque social\, Daniel Collado Azorín solo es conocido a través de su página web (escritordaniel.es) y de los recitales que de vez en cuando hace. Edita además la revista de creación literaria y gráfica Caminante.\nEn esta ocasión\, coincidiendo con el día Mundial de la poesía\, Daniel Collado nos hará un breve pero intenso repaso de sus siete poemarios. Estamos ante un autor que es capaz de vencer los prejuicios y de exponer su yo a nuestra consideración\, con mucho ritmo\, humor y siempre gran sensibilidad.
URL:https://casadelbarriocarabanchel.es/event/recital-poetico-daniel-collado-arbol-de-liricas/
END:VEVENT
BEGIN:VEVENT
DTSTART;TZID=Europe/Madrid:20250518T180000
DTEND;TZID=Europe/Madrid:20250518T180000
DTSTAMP:20260422T033854
CREATED:20250408T085916Z
LAST-MODIFIED:20250516T100029Z
UID:703-1747591200-1747591200@casadelbarriocarabanchel.es
SUMMARY:Presentación libros "Pentesilea" y "Kómete a los rikos" de Fernando Figueroa
DESCRIPTION:Presentación de la novela urbana Pentesilea\ny el recetario satírico Kómete a los rikos\na cargo de su autor Fernando Figueroa Saavedra.\n\n\n\nPentesilea\n\n2010\, Madrid. Gloria vive presa de su pasado y de un futuro incierto. Para escapar de la angustia\, se enfrascará en una tesis doctoral sobre el rock en Vallecas\, y conocerá a una serie de personajes enraizados en el asfalto\, entre el crepúsculo y el amanecer\, la ilusión y el desencanto\, el fracaso y el triunfo\, con los que Gloria compartirá sueños\, frustraciones\, traumas y heridas pese a pertenecer a épocas distintas. En especial\, seguirá el rastro de dos bandas míticas\, ya desaparecidas\, que intuye podrían reunirla con su madre ausente: Pentesilea y Crines de Caín.\nPentesilea es una historia ficticia\, una tragicomedia urbana\, agridulce y sucia a ratos\, una alegoría que entrelaza mitología e historia\, realismo y simbolismo\, que usa el rock y el sexo como metáfora de los conflictos humanos y sociales.\n\n\nKómete a los rikos\n\n¿Cuántas veces te ha apetecido zamparte un rico y\, por no saber cocinarlo\, te has privado del capricho? Ahora tienes la ocasión de aprender a prepararlo como un profesional y quedar como un señor ante tus amigos.\nFue Adolphe Thiers quien derribó definitivamente los tabúes alimentarios cuando parafraseó a Jean-Jacques Rousseau diciendo aquello de «quand le peuple n’aura plus rien à manger\, il mangerale riche». Sea o no sea lo uno o lo otro una atribución real\, una fantasía apócrifa\, se dijo una gran verdad: los ricos están bien ricos\, de toma pan y moja y échate una buena siesta. Siglos de selección y buena crianza los han convertido en una auténtica delicia al alcance de muy pocos y una tentación en tiempos de necesidad que reclama la colectivización de su disfrute.\nUn recetario con cuarenta recetas de ayer y de hoy que sacudieron los estómagos del mundo. Un viaje a la gastronomía oculta y exquisita. ¡Plutófagos del mundo\, uníos!
URL:https://casadelbarriocarabanchel.es/event/presentacion-libro-fernando-figueroa/
END:VEVENT
BEGIN:VEVENT
DTSTART;TZID=Europe/Madrid:20250523T190000
DTEND;TZID=Europe/Madrid:20250523T190000
DTSTAMP:20260422T033854
CREATED:20250411T090059Z
LAST-MODIFIED:20250516T095917Z
UID:712-1748026800-1748026800@casadelbarriocarabanchel.es
SUMMARY:Cuentacuentos "Cascada de historias y cuentos"
DESCRIPTION:Un grupo de cuentistas dirigidas por Luis D’ors nos deleitarán con sus historias y sus cuentos\, tan diversos cómo cada uno de ellos. \n\n– Estado Civil\nTexto y narradora\nLupe Fernández\n– La ventana  abierta\nTexto\, Saki\nConcha Pérez\n– La onda de David\nTexto Augusto Monterroso\nNieves Bragante\n– Triángulo isósceles\nMario Benedetti\nMaría José Gallego\n– Los libros nunca mueren\nTexto y Narrador\nRaúl  Sánchez\n– Buenas suerte mala suerte\nCuento de tradición oral
URL:https://casadelbarriocarabanchel.es/event/cuentacuentos/
END:VEVENT
END:VCALENDAR