BEGIN:VCALENDAR
VERSION:2.0
PRODID:-//Casa del Barrio  de Carabanchel - ECPv6.15.20//NONSGML v1.0//EN
CALSCALE:GREGORIAN
METHOD:PUBLISH
X-WR-CALNAME:Casa del Barrio  de Carabanchel
X-ORIGINAL-URL:https://casadelbarriocarabanchel.es
X-WR-CALDESC:Eventos para Casa del Barrio  de Carabanchel
REFRESH-INTERVAL;VALUE=DURATION:PT1H
X-Robots-Tag:noindex
X-PUBLISHED-TTL:PT1H
BEGIN:VTIMEZONE
TZID:Europe/Madrid
BEGIN:DAYLIGHT
TZOFFSETFROM:+0100
TZOFFSETTO:+0200
TZNAME:CEST
DTSTART:20240331T010000
END:DAYLIGHT
BEGIN:STANDARD
TZOFFSETFROM:+0200
TZOFFSETTO:+0100
TZNAME:CET
DTSTART:20241027T010000
END:STANDARD
BEGIN:DAYLIGHT
TZOFFSETFROM:+0100
TZOFFSETTO:+0200
TZNAME:CEST
DTSTART:20250330T010000
END:DAYLIGHT
BEGIN:STANDARD
TZOFFSETFROM:+0200
TZOFFSETTO:+0100
TZNAME:CET
DTSTART:20251026T010000
END:STANDARD
BEGIN:DAYLIGHT
TZOFFSETFROM:+0100
TZOFFSETTO:+0200
TZNAME:CEST
DTSTART:20260329T010000
END:DAYLIGHT
BEGIN:STANDARD
TZOFFSETFROM:+0200
TZOFFSETTO:+0100
TZNAME:CET
DTSTART:20261025T010000
END:STANDARD
END:VTIMEZONE
BEGIN:VEVENT
DTSTART;TZID=Europe/Madrid:20250509T190000
DTEND;TZID=Europe/Madrid:20250509T190000
DTSTAMP:20260422T104522
CREATED:20250411T090307Z
LAST-MODIFIED:20250503T110807Z
UID:714-1746817200-1746817200@casadelbarriocarabanchel.es
SUMMARY:Encuentro republicano y cuentacuentos
DESCRIPTION:Encuentro Republicano en Carabanchel \n Queremos que en Carabanchel haya un espacio en el que podamos debatir y compartir los valores democráticos y de justicia social que inspiran a las personas que proponemos un régimen republicano\, superador de la actual monarquía corrupta y antidemocrática que tenemos. \nNecesitamos nuevas propuestas de actividades\, sociales\, culturales e incluso lúdicas\, para desarrollar este espacio de encuentro que pretendemos. \nPara ello te invitamos a participar en este encuentro\, que tendrá una segunda parte con picoteo\, música y cuentacuentos. Pueden asistir personas de todas las edades\, y\, como siempre\, la entrada es libre. \nSerá el viernes 9 de mayo\, a partir de las 19h\, en la Casa del Barrio de Carabanchel.
URL:https://casadelbarriocarabanchel.es/event/evento-ateneo-republicano-con-concierto/
END:VEVENT
BEGIN:VEVENT
DTSTART;TZID=Europe/Madrid:20250510T200000
DTEND;TZID=Europe/Madrid:20250510T200000
DTSTAMP:20260422T104522
CREATED:20250213T085817Z
LAST-MODIFIED:20250213T085817Z
UID:589-1746907200-1746907200@casadelbarriocarabanchel.es
SUMMARY:Teatro "Microteatros para irnos al huerto"
DESCRIPTION:La compañía Peripatétikas Vallekanas representa en la Casa del Barrio. \nEl proyecto consta de cuatro piezas de microteatro\, con una duración total de aproximadamente 80 minutos.\nLas piezas se representan en el siguiente orden:\n• Sonrisas y lágrimas sería un título perfecto si no fuera porque ya se ha utilizado. Una obra de Emilio Mahugo Serrano.\n• El llanto de las plantas. Una obra de Almudena Pérez Cruz.\n• Todos los gatos son pardos y a veces crece un huerto en la estación. Una obra de Almudena Pérez Cruz.\n• El extraño caso de un asesinado amarillo. Una obra de Emilio Mahugo Serrano.
URL:https://casadelbarriocarabanchel.es/event/teatro-microteatros-para-irnos-al-huerto/
END:VEVENT
BEGIN:VEVENT
DTSTART;TZID=Europe/Madrid:20250511T190000
DTEND;TZID=Europe/Madrid:20250511T190000
DTSTAMP:20260422T104522
CREATED:20250328T105213Z
LAST-MODIFIED:20250422T092635Z
UID:682-1746990000-1746990000@casadelbarriocarabanchel.es
SUMMARY:Teatro "Macbeth". Producciones Entrecalles
DESCRIPTION:
URL:https://casadelbarriocarabanchel.es/event/teatro-macbeth-compania-entrecalles/
END:VEVENT
BEGIN:VEVENT
DTSTART;TZID=Europe/Madrid:20250516T190000
DTEND;TZID=Europe/Madrid:20250516T190000
DTSTAMP:20260422T104522
CREATED:20250330T122611Z
LAST-MODIFIED:20250330T122611Z
UID:689-1747422000-1747422000@casadelbarriocarabanchel.es
SUMMARY:Recital poético "Daniel Collado: Arbol de líricas"
DESCRIPTION:Daniel Collado Azorín (Madrid\, 1970) es escritor \, poeta y editor outsider. Diplomado en educación musical por la Universidad Complutense\, tiene 13 libros publicados: siete poemarios\, tres antologías\, un libro de relatos\, uno de retales periodísticos y una miscelánea de narrativas bajo el nombre de su alter ego: Teqerucho de Montijo.\nSin embargo\, es outsider porque el sistema rechaza tener sus libros en librerías ya que son autoeditados. De estilo coloquial\, directo\, intimista y con toque social\, Daniel Collado Azorín solo es conocido a través de su página web (escritordaniel.es) y de los recitales que de vez en cuando hace. Edita además la revista de creación literaria y gráfica Caminante.\nEn esta ocasión\, coincidiendo con el día Mundial de la poesía\, Daniel Collado nos hará un breve pero intenso repaso de sus siete poemarios. Estamos ante un autor que es capaz de vencer los prejuicios y de exponer su yo a nuestra consideración\, con mucho ritmo\, humor y siempre gran sensibilidad.
URL:https://casadelbarriocarabanchel.es/event/recital-poetico-daniel-collado-arbol-de-liricas/
END:VEVENT
BEGIN:VEVENT
DTSTART;TZID=Europe/Madrid:20250518T180000
DTEND;TZID=Europe/Madrid:20250518T180000
DTSTAMP:20260422T104522
CREATED:20250408T085916Z
LAST-MODIFIED:20250516T100029Z
UID:703-1747591200-1747591200@casadelbarriocarabanchel.es
SUMMARY:Presentación libros "Pentesilea" y "Kómete a los rikos" de Fernando Figueroa
DESCRIPTION:Presentación de la novela urbana Pentesilea\ny el recetario satírico Kómete a los rikos\na cargo de su autor Fernando Figueroa Saavedra.\n\n\n\nPentesilea\n\n2010\, Madrid. Gloria vive presa de su pasado y de un futuro incierto. Para escapar de la angustia\, se enfrascará en una tesis doctoral sobre el rock en Vallecas\, y conocerá a una serie de personajes enraizados en el asfalto\, entre el crepúsculo y el amanecer\, la ilusión y el desencanto\, el fracaso y el triunfo\, con los que Gloria compartirá sueños\, frustraciones\, traumas y heridas pese a pertenecer a épocas distintas. En especial\, seguirá el rastro de dos bandas míticas\, ya desaparecidas\, que intuye podrían reunirla con su madre ausente: Pentesilea y Crines de Caín.\nPentesilea es una historia ficticia\, una tragicomedia urbana\, agridulce y sucia a ratos\, una alegoría que entrelaza mitología e historia\, realismo y simbolismo\, que usa el rock y el sexo como metáfora de los conflictos humanos y sociales.\n\n\nKómete a los rikos\n\n¿Cuántas veces te ha apetecido zamparte un rico y\, por no saber cocinarlo\, te has privado del capricho? Ahora tienes la ocasión de aprender a prepararlo como un profesional y quedar como un señor ante tus amigos.\nFue Adolphe Thiers quien derribó definitivamente los tabúes alimentarios cuando parafraseó a Jean-Jacques Rousseau diciendo aquello de «quand le peuple n’aura plus rien à manger\, il mangerale riche». Sea o no sea lo uno o lo otro una atribución real\, una fantasía apócrifa\, se dijo una gran verdad: los ricos están bien ricos\, de toma pan y moja y échate una buena siesta. Siglos de selección y buena crianza los han convertido en una auténtica delicia al alcance de muy pocos y una tentación en tiempos de necesidad que reclama la colectivización de su disfrute.\nUn recetario con cuarenta recetas de ayer y de hoy que sacudieron los estómagos del mundo. Un viaje a la gastronomía oculta y exquisita. ¡Plutófagos del mundo\, uníos!
URL:https://casadelbarriocarabanchel.es/event/presentacion-libro-fernando-figueroa/
END:VEVENT
BEGIN:VEVENT
DTSTART;TZID=Europe/Madrid:20250523T190000
DTEND;TZID=Europe/Madrid:20250523T190000
DTSTAMP:20260422T104522
CREATED:20250411T090059Z
LAST-MODIFIED:20250516T095917Z
UID:712-1748026800-1748026800@casadelbarriocarabanchel.es
SUMMARY:Cuentacuentos "Cascada de historias y cuentos"
DESCRIPTION:Un grupo de cuentistas dirigidas por Luis D’ors nos deleitarán con sus historias y sus cuentos\, tan diversos cómo cada uno de ellos. \n\n– Estado Civil\nTexto y narradora\nLupe Fernández\n– La ventana  abierta\nTexto\, Saki\nConcha Pérez\n– La onda de David\nTexto Augusto Monterroso\nNieves Bragante\n– Triángulo isósceles\nMario Benedetti\nMaría José Gallego\n– Los libros nunca mueren\nTexto y Narrador\nRaúl  Sánchez\n– Buenas suerte mala suerte\nCuento de tradición oral
URL:https://casadelbarriocarabanchel.es/event/cuentacuentos/
END:VEVENT
BEGIN:VEVENT
DTSTART;TZID=Europe/Madrid:20250606T200000
DTEND;TZID=Europe/Madrid:20250606T200000
DTSTAMP:20260422T104522
CREATED:20250411T090544Z
LAST-MODIFIED:20250414T103543Z
UID:716-1749240000-1749240000@casadelbarriocarabanchel.es
SUMMARY:Concierto "Javi Molina"
DESCRIPTION:Tras los pasos de Joaquín Sabina y Javier Krahe\, este no tan joven cantautor mezcla en sus canciones ironía\, poesía y humor.  \nEste proyecto musical se caracteriza por un repertorio de composiciones propias en castellano que bebe de fuentes tan diversas como el jazz\, el pop\, el folk y la chanson francesa.  \nHuye de convencionalismos con un particular punto de vista sobre el paso del tiempo\, el amor y el humor.
URL:https://casadelbarriocarabanchel.es/event/concierto-javi-molina/
END:VEVENT
BEGIN:VEVENT
DTSTART;TZID=Europe/Madrid:20250607T133000
DTEND;TZID=Europe/Madrid:20250607T133000
DTSTAMP:20260422T104522
CREATED:20250422T093457Z
LAST-MODIFIED:20250527T092727Z
UID:738-1749303000-1749303000@casadelbarriocarabanchel.es
SUMMARY:Comida solidaria Campaña "Marcapasos para Cuba"
DESCRIPTION:COMIDA EN SOLIDARIDAD CON CUBA \nComo en otras ocasiones\, organizamos en Carabanchel una comida destinada a recaudar fondos para ayudar a Cuba de las consecuencias que sufre del criminal bloqueo\, decretado ilegalmente por EEUU desde hace muchos años. \nEn este caso lo recaudado servirá para comprar marcapasos y enviarlos a la isla. \n Hazte con tu bono con antelación (reservas a través de la dirección de correo)\, y también puedes hacer un ingreso solidario a la cuenta indicada en el cartel.
URL:https://casadelbarriocarabanchel.es/event/comida-solidaria-por-cuba/
END:VEVENT
BEGIN:VEVENT
DTSTART;TZID=Europe/Madrid:20250607T200000
DTEND;TZID=Europe/Madrid:20250607T200000
DTSTAMP:20260422T104522
CREATED:20250305T092520Z
LAST-MODIFIED:20250503T110300Z
UID:630-1749326400-1749326400@casadelbarriocarabanchel.es
SUMMARY:Concierto "Wanna Rock"
DESCRIPTION:Wanna Rock es un grupo de Carabanchel formado por músicos de varias agrupaciones que ya habéis podido escuchar tanto en La Casa del Barrio como en las Fiestas del barrio y otros eventos. \nGrandes éxitos del rock internacional de las últimas décadas. Las canciones del rock que conoces y con las que has crecido
URL:https://casadelbarriocarabanchel.es/event/concierto-wanna-rock/
END:VEVENT
BEGIN:VEVENT
DTSTART;TZID=Europe/Madrid:20250613T200000
DTEND;TZID=Europe/Madrid:20250613T200000
DTSTAMP:20260422T104522
CREATED:20250411T090757Z
LAST-MODIFIED:20250609T084033Z
UID:719-1749844800-1749844800@casadelbarriocarabanchel.es
SUMMARY:Fiesta "Fin de curso en la Casa"
DESCRIPTION:  \n \nEste viernes 13 de junio celebramos la Fiesta de Fin de Curso 24/25 de todos los talleres de La Casa del Barrio de Carabanchel. \nA las 20:00 Apertura de puertas e inauguración de la Exposición de Talleres donde se podrán ver una selección de obras de Talla en Madera\, Costura\, Restauración y joyería. \nUna de las obras que se podrá admirar es la caja restaurada con incrustaciones de “taracea” que forma parte de los premios de nuestro “Sorteo Veraniego”. \n \nTambién se realizarán “Sesiones Participativas” de diferentes talleres (danza contemporánea y pilates). \nA las 21:30 Celebraremos una “Fiesta Guateque” para bailar al ritmo de los más animados clásicos de siempre. \n¡NO TE LO PUEDES PERDER!
URL:https://casadelbarriocarabanchel.es/event/fiesta-fin-de-curso-en-la-casa/
END:VEVENT
BEGIN:VEVENT
DTSTART;TZID=Europe/Madrid:20250614T190000
DTEND;TZID=Europe/Madrid:20250614T190000
DTSTAMP:20260422T104522
CREATED:20250328T105500Z
LAST-MODIFIED:20250519T162210Z
UID:684-1749927600-1749927600@casadelbarriocarabanchel.es
SUMMARY:Teatro "El retablo de las maravillas maravillosas". Grupo Ensayos Chucrum
DESCRIPTION:Basado en el entremés de Miguel de Cervantes y\, añadiendo algunos pasajes de su obra Don Quijote de la Mancha\, Alberto Morate vuelve con su compañía Ensayos Chucrum\, a ofrecernos un espectáculo de divertimento y entretenimiento\, donde también los espectadores entrarán en el juego de creerse lo que se les ofrece\, aunque solo sea aire e imaginación pura y dura. Porque\, al fin y al cabo\, no es mentira lo que se supone que deben ver los espectadores\, mentira no\, sino ¡TEATRO!
URL:https://casadelbarriocarabanchel.es/event/teatro-el-retablo-de-las-maravillas-maravillosas-grupo-ensayos-chucrum/
END:VEVENT
BEGIN:VEVENT
DTSTART;TZID=Europe/Madrid:20250615T190000
DTEND;TZID=Europe/Madrid:20250615T190000
DTSTAMP:20260422T104522
CREATED:20250305T093016Z
LAST-MODIFIED:20250609T081734Z
UID:635-1750014000-1750014000@casadelbarriocarabanchel.es
SUMMARY:Concierto "Ojos de Gamba"
DESCRIPTION:Ojos de Gamba mezcla música fresca de autor con grandes dosis de humor. La improvisación\, cercanía e interacción con el público son las señas de identidad de este grupo que\, usando géneros tan variados como el pop\, la bossa-nova\, la rumba o el rock\, hila historias fuera de lo común. Y es que las canciones de Ojos de Gamba pueden ser divertidas o sensibles\, pero siempre sorprenden y huyen de los estereotipos.
URL:https://casadelbarriocarabanchel.es/event/concierto-ojos-de-gamba-4/
END:VEVENT
BEGIN:VEVENT
DTSTART;TZID=Europe/Madrid:20250620T213000
DTEND;TZID=Europe/Madrid:20250620T213000
DTSTAMP:20260422T104522
CREATED:20250422T093557Z
LAST-MODIFIED:20250615T193050Z
UID:740-1750455000-1750455000@casadelbarriocarabanchel.es
SUMMARY:Concierto "Amigos de vinilo"
DESCRIPTION:🎷 Este viernes 20 de junio a las 21:30\n📍 La Casa del Barrio – Carabanchel \nAmigo de Vinilo en vivo 🎶\nUna noche de clásicos reinventados\, groove\, improvisación y alma. \nSi te mueven los sonidos de Miles Davis\, Maceo Parker\, The Crusaders\, Pat Metheny o Jobim\, este concierto es para ti.\nVen a disfrutar de nuestras versiones con sello propio\, entre el jazz\, el funk y el blues más sabrosos. \n🔊 Música en directo\, ambiente cálido y barrio con sabor. \nNo te lo pierdas — ¡nos vemos allí!
URL:https://casadelbarriocarabanchel.es/event/concierto/
END:VEVENT
BEGIN:VEVENT
DTSTART;TZID=Europe/Madrid:20250622T190000
DTEND;TZID=Europe/Madrid:20250622T190000
DTSTAMP:20260422T104522
CREATED:20250609T082425Z
LAST-MODIFIED:20250609T082425Z
UID:805-1750618800-1750618800@casadelbarriocarabanchel.es
SUMMARY:Danza "Festival alumnas Sandra Prado"
DESCRIPTION:El domingo 22 de Junio de 2025\, a las 19 h.\, tendrá lugar la Muestra de Danza de las alumnas de Sandra Prado. \n  \nPodréis observar diferentes coreografías de diversos estilos de danzas como danza del vientre\, fusión tribal y danzas urbanas. \n  \nEvento en que te apetecerá levantarte a bailar y apuntarte a cualquier estilo\, porque… “Un día sin danzar es un día perdido”.
URL:https://casadelbarriocarabanchel.es/event/danza-festival-alumnas-sandra-prado/
END:VEVENT
BEGIN:VEVENT
DTSTART;TZID=Europe/Madrid:20250627T210000
DTEND;TZID=Europe/Madrid:20250627T210000
DTSTAMP:20260422T104522
CREATED:20250411T090955Z
LAST-MODIFIED:20250503T113226Z
UID:721-1751058000-1751058000@casadelbarriocarabanchel.es
SUMMARY:Teatro "El cadáver del señor García". Compañía Resiliencia
DESCRIPTION:«El cadáver del señor García» es una de las primeras obras de Enrique Jardiel Poncela. \nEstamos ante una comedia de salón con cadáver. Jardiel se aproxima al género policíaco y anticipa lo que más adelante será el juego del cluedo.
URL:https://casadelbarriocarabanchel.es/event/teatro/
END:VEVENT
BEGIN:VEVENT
DTSTART;TZID=Europe/Madrid:20250628T190000
DTEND;TZID=Europe/Madrid:20250628T190000
DTSTAMP:20260422T104522
CREATED:20250523T080609Z
LAST-MODIFIED:20250523T080609Z
UID:781-1751137200-1751137200@casadelbarriocarabanchel.es
SUMMARY:Presentación de libros de Luis Puicercús
DESCRIPTION:PUICERCÚS VÁZQUEZ “Putxi”\, LUIS. (Madrid\, 1951). Nacido en el barrio de Chamberí\, en el seno de una familia trabajadora\, inició sus estudios básicos y de bachillerato en el Colegio de los Salesianos de Estrecho\, situado en la populosa confluencia de Francos Rodríguez con Bravo Murillo\, en el que en 1936 se creó el Quinto Regimiento de voluntarios de la II República por iniciativa del Partido Comunista de España y las Juventudes Socialistas Unificadas. A partir de 1965 y gracias a una beca\, estudió Artes Gráficas en la Universidad Laboral de Tarragona. A los 18 años comenzó su militancia antifranquista en las filas del PCE (m-l)\, organización integrada en el FRAP (Frente Revolucionario Antifascista y Patriota). Detenido en 1972 como responsable de una imprenta del partido en el interior que imprimía Vanguardia Obrera\, órgano del Comité Central del PCE (m-l)\, y otros materiales contra la dictadura\, fue juzgado y encarcelado cuatro años por asociación ilícita y propaganda ilegal. Muerto el dictador\, salió en libertad. Militó en el Movimiento Ciudadano y en Comisiones Obreras\, siendo elegido delegado sindical durante cuatro años. En 1980 se incorporó a asociaciones de solidaridad con Cuba y su Revolución\, participando en tres Brigadas Internacionales de Trabajo Voluntario en la isla. En 2013 formó parte del núcleo fundador de La Comuna\, presxs del franquismo\, para recuperar su memoria y dar testimonio de las luchas y la represión de los últimos años de la dictadura. Lector aplicado y amante de la tinta y la imprenta\, de la encuadernación y de esas Artes llamadas Gráficas\, ámbito profesional en el que Luis ha desarrollado su vida\, se incorporó en 2005 al arte mayor de los libros\, consistente en escribirlos. Hasta la fecha ha publicado nueve: dos sobre la historia del barrio de Las Ventas; dos sobre las Brigadas de Trabajo en Cuba\, incluida una guía del viajero a la isla; dos más sobre sus experiencias con el ictus y el cáncer. A destacar tres sobre sus recuerdos y testimonios militantes y carcelarios durante la dictadura. Hace 14 años inició una amplia recopilación de presos y presas del franquismo durante el período 1963-1977. En la actualidad está preparando un trabajo de ficción sobre la ejecución de un conocido torturador y una amplia recopilación de biografías de hombres y mujeres que lucharon contra la dictadura.
URL:https://casadelbarriocarabanchel.es/event/presentacion-de-libros-de-luis-puicercus/
END:VEVENT
BEGIN:VEVENT
DTSTART;TZID=Europe/Madrid:20250907T000000
DTEND;TZID=Europe/Madrid:20250907T000000
DTSTAMP:20260422T104522
CREATED:20250718T090216Z
LAST-MODIFIED:20250718T090216Z
UID:849-1757203200-1757203200@casadelbarriocarabanchel.es
SUMMARY:Concierto "Musikben"
DESCRIPTION:Horario por confirmar
URL:https://casadelbarriocarabanchel.es/event/concierto-musikben/
END:VEVENT
BEGIN:VEVENT
DTSTART;TZID=Europe/Madrid:20250920T170000
DTEND;TZID=Europe/Madrid:20250920T230000
DTSTAMP:20260422T104522
CREATED:20250718T090056Z
LAST-MODIFIED:20250909T085252Z
UID:847-1758387600-1758409200@casadelbarriocarabanchel.es
SUMMARY:Fonda cultural artística chilena :  Por la unión de Chile
DESCRIPTION:Dentro de la campaña electoral de Chile que será en noviembre 2025\, les invitamos a asistir a nuestro evento musical\, festivo para chilenos y españoles que nos apoyen para promocionar a Jeannette Jara y a nuestra coalición «Unidad por Chile». \nLes esperamos el sábado 20 de septiembre en Casa del Barrio. \n 
URL:https://casadelbarriocarabanchel.es/event/evento-chileno/
END:VEVENT
BEGIN:VEVENT
DTSTART;TZID=Europe/Madrid:20250927T193000
DTEND;TZID=Europe/Madrid:20250927T193000
DTSTAMP:20260422T104522
CREATED:20250701T100049Z
LAST-MODIFIED:20250918T074718Z
UID:837-1759001400-1759001400@casadelbarriocarabanchel.es
SUMMARY:Teatro: "El centrocampista murió al amanecer"
DESCRIPTION:EL CENTROCAMPISTA MURIO AL AMANECER\nAdaptación de la obra de teatro de Agustín Cuzzani \, escrita en 1955\nComedia negra\, tragicomedia\, surrealismo y como lo define Cuzzani\, “ Farsátira ”: una mezcla de géneros donde el humor se funde con lo trágico de algunas situaciones humanas.\nCon partes más realistas desde donde se cuentan y se combinan con partes más surrealistas y del teatro del absurdo\, las excentricidades a las que te puede llevar un poder mal entendido…..\nSINOPSIS:\nUn futbolista es comprado por una poderosa empresaria pero nada más lejos de su realidad deportiva; porque lo que descubre al llegar al palacio \, fortaleza donde vivirá es que la empresaria le ha comprado para añadirle a la colección que está creando con seres humanos con talentos y profesiones diversas\, para engordar su autoestima y su cuenta bancaria.\nEl futbolista no se resigna como sus compañeras de cautiverio y “ el amor” como motor vital le llevará a luchar por la libertad y en un impulso irracional mata a la empresaria sin pensar en las consecuencias siendo condenado por la justicia a morir también.\nFrase a pie de obra de JULIUS FUCIK “ Reportaje al pie del Patíbulo “ :\n¡ Qué extrañamente construido está el hombre\, que puede soportar hasta lo imposible !
URL:https://casadelbarriocarabanchel.es/event/teatro-2/
END:VEVENT
BEGIN:VEVENT
DTSTART;TZID=Europe/Madrid:20250928T190000
DTEND;TZID=Europe/Madrid:20250928T190000
DTSTAMP:20260422T104522
CREATED:20250718T085707Z
LAST-MODIFIED:20250917T082949Z
UID:843-1759086000-1759086000@casadelbarriocarabanchel.es
SUMMARY:Concierto: "Sobre diez cuerdas"
DESCRIPTION:“Sobre diez cuerdas” nació en enero de 2025 cuando José Manuel y Mª José decidieron unir sus esfuerzo y hacer música juntos. Con gustos musicales parecidos\, mucha paciencia y sobre todo mucho esfuerzo han ido construyendo un repertorio variado\, música pop en distintos estilos e idiomas \, con canciones de todos los tiempos\, eso sí con un estilo propio. \nLas canciones son en acústico\, guitarra y voz\, algunas a dos voces. De aquí deriva nuestro nombre. En algunos temas se añade también algún otro instrumento como la armónica\, el saxo alto y algo de percusión.
URL:https://casadelbarriocarabanchel.es/event/concierto-de-saxo/
END:VEVENT
BEGIN:VEVENT
DTSTART;TZID=Europe/Madrid:20251017T190000
DTEND;TZID=Europe/Madrid:20251017T190000
DTSTAMP:20260422T104522
CREATED:20250916T064719Z
LAST-MODIFIED:20251014T100008Z
UID:871-1760727600-1760727600@casadelbarriocarabanchel.es
SUMMARY:Proyección: "El Milagro de Wörlg" del proyecto Moneda Libre
DESCRIPTION:Moneda Libre aterriza en Carabanchel. Veremos juntos la película «El Milagro de Wörlg» y exploraremos el proyecto Moneda Libre\, su historia y como poder relacionarnos económicamente desde otras perspectivas. Te esperamos en la Casa del Barrio en Carabanchel el 17 de octubre a las 19hs
URL:https://casadelbarriocarabanchel.es/event/proyeccion-moneda-libre/
END:VEVENT
BEGIN:VEVENT
DTSTART;TZID=Europe/Madrid:20251025T000000
DTEND;TZID=Europe/Madrid:20251025T000000
DTSTAMP:20260422T104522
CREATED:20251003T094606Z
LAST-MODIFIED:20251003T094606Z
UID:892-1761350400-1761350400@casadelbarriocarabanchel.es
SUMMARY:Fiesta Asociación de vecinos de Carabanchel
DESCRIPTION:Horario por confirmar.
URL:https://casadelbarriocarabanchel.es/event/fiesta-asociacion-de-vecinos-de-carabanchel/
END:VEVENT
BEGIN:VEVENT
DTSTART;TZID=Europe/Madrid:20251031T190000
DTEND;TZID=Europe/Madrid:20251031T190000
DTSTAMP:20260422T104522
CREATED:20251029T073840Z
LAST-MODIFIED:20251029T073840Z
UID:915-1761937200-1761937200@casadelbarriocarabanchel.es
SUMMARY:Encuentro republicano
DESCRIPTION:Encuentro Republicano en Carabanchel \nQueremos que en Carabanchel haya un espacio en el que podamos debatir y compartir los valores democráticos y de justicia social que inspiran a las personas que proponemos un régimen republicano\, superador de la actual monarquía corrupta y antidemocrática que tenemos. \nNecesitamos nuevas propuestas de actividades\, sociales\, culturales e incluso lúdicas (por ejemplo carnavales)\, para desarrollar este espacio de encuentro que pretendemos. \n Para ello te invitamos a participar y que traigas propuestas de actividades que podemos realizar colectivamente. \nSerá el viernes 31 de octubre\, a partir de las 19h\, en la Casa del Barrio de Carabanchel
URL:https://casadelbarriocarabanchel.es/event/encuentro-republicano/
END:VEVENT
BEGIN:VEVENT
DTSTART;TZID=Europe/Madrid:20251107T203000
DTEND;TZID=Europe/Madrid:20251107T203000
DTSTAMP:20260422T104522
CREATED:20251030T074407Z
LAST-MODIFIED:20251030T074407Z
UID:920-1762547400-1762547400@casadelbarriocarabanchel.es
SUMMARY:Concierto "Asilo de genios"
DESCRIPTION:Asilo de Genios es un proyecto musical que trata de mezclar la canción de autor\, la sátira social y el humor surrealista. Una puesta en escena irreverente junto con una selección de canciones que tratarán de conmoverte\, emocionarte y hacerte reír a partes iguales. Un espectáculo recomendado para todas las edades\, incluida la de Piedra.
URL:https://casadelbarriocarabanchel.es/event/concierto-asilo-de-genios-2/
END:VEVENT
BEGIN:VEVENT
DTSTART;TZID=Europe/Madrid:20251108T190000
DTEND;TZID=Europe/Madrid:20251108T190000
DTSTAMP:20260422T104522
CREATED:20251028T205827Z
LAST-MODIFIED:20251105T095212Z
UID:928-1762628400-1762628400@casadelbarriocarabanchel.es
SUMMARY:Micro abierto de poesía: "Mujeres sin miedo"
DESCRIPTION:Con motivo de la conmemoración el 25 de noviembre la casa del barrio y las mujeres sin miedo realizaremos diferentes actividades\, a las que estás invitada.
URL:https://casadelbarriocarabanchel.es/event/micro-abierto-de-poesia-mujeres-sin-miedo/
END:VEVENT
BEGIN:VEVENT
DTSTART;TZID=Europe/Madrid:20251109T190000
DTEND;TZID=Europe/Madrid:20251109T190000
DTSTAMP:20260422T104522
CREATED:20251102T205534Z
LAST-MODIFIED:20251102T205534Z
UID:925-1762714800-1762714800@casadelbarriocarabanchel.es
SUMMARY:Concierto: "Ojos de Gamba"
DESCRIPTION:Ojos de Gamba mezcla música fresca de autor con grandes dosis de humor.\nLa improvisación\, cercanía e interacción con el público son las señas de identidad de este grupo que\, usando géneros tan variados como el pop\, la bossa-nova\, la rumba o el rock\, hila historias fuera de lo común.\nY es que las canciones de Ojos de Gamba pueden ser divertidas o sensibles\, pero siempre sorprenden y huyen de los estereotipos.
URL:https://casadelbarriocarabanchel.es/event/concierto-ojos-de-gamba-5/
END:VEVENT
BEGIN:VEVENT
DTSTART;TZID=Europe/Madrid:20251114T180000
DTEND;TZID=Europe/Madrid:20251114T180000
DTSTAMP:20260422T104522
CREATED:20251106T080434Z
LAST-MODIFIED:20251106T080725Z
UID:962-1763143200-1763143200@casadelbarriocarabanchel.es
SUMMARY:Encuentro republicano
DESCRIPTION:Nuevo encuentro Republicano en Carabanchel \n En el encuentro celebrado el pasado 31 de octubre se presentaron numerosas propuestas de actividades para realizar en los próximos meses. Y quedamos en tener otra reunión para concretar algunas de estas propuestas\, de tipo cultural y lúdicas\, con contenido social. \nTe animamos a participar en este nuevo encuentro\, y que traigas tus propuestas o tus ganas de colaborar. \nSerá el viernes 14 de noviembre\, a partir de las 18h\, en la Casa del Barrio de Carabanchel. \nTe esperamos
URL:https://casadelbarriocarabanchel.es/event/encuentro-republicano-2/
END:VEVENT
BEGIN:VEVENT
DTSTART;TZID=Europe/Madrid:20251114T190000
DTEND;TZID=Europe/Madrid:20251114T190000
DTSTAMP:20260422T104522
CREATED:20251003T094306Z
LAST-MODIFIED:20251102T210318Z
UID:890-1763146800-1763146800@casadelbarriocarabanchel.es
SUMMARY:Presentación de libro de David Val
DESCRIPTION:
URL:https://casadelbarriocarabanchel.es/event/presentacion-de-libro-de-david-val/
END:VEVENT
BEGIN:VEVENT
DTSTART;TZID=Europe/Madrid:20251115T200000
DTEND;TZID=Europe/Madrid:20251115T200000
DTSTAMP:20260422T104522
CREATED:20250908T084133Z
LAST-MODIFIED:20250910T083221Z
UID:858-1763236800-1763236800@casadelbarriocarabanchel.es
SUMMARY:Concierto de jazz: "Ochoverde"
DESCRIPTION:Ochoverde es un grupo de Jazz madrileño amateur\, veterano y de veteranos. Su repertorio se basa en el jazz\, sin limitarse a ninguna época en concreto. Desde temas de la época dorada del swing (Duke Ellington)\, pasando por el jazz de los 50/60 (Benny Golson\, Miles Davis) hasta el más contemporáneo (Herbie Hancock\, The Crusaders). La bossa-nova de Jobim también está presente en su repertorio\, así como composiciones propias de José Luis Muñoz.
URL:https://casadelbarriocarabanchel.es/event/concierto-de-jazz/
END:VEVENT
BEGIN:VEVENT
DTSTART;TZID=Europe/Madrid:20251116T113000
DTEND;TZID=Europe/Madrid:20251116T140000
DTSTAMP:20260422T104522
CREATED:20251106T081635Z
LAST-MODIFIED:20251107T095508Z
UID:967-1763292600-1763301600@casadelbarriocarabanchel.es
SUMMARY:Presentación de libro: "27 de septiembre 1975 / los últimos fusilamientos de la dictadura franquista"
DESCRIPTION:En breves días se cumplirán los cincuenta años de la muerte del criminal dictador Francisco Franco\, como también se han cumplido cincuenta años de los cuatro últimos consejos de guerra llevados adelante por el ejército español\, hacedor y guardián de la Dictadura. Tomando como base las investigaciones y textos del libro: “27 de septiembre 1975 / los últimos fusilamientos de la dictadura franquista”\, te invitamos a acompañarnos para dialogar entre todas de aquel aciago año de 1975\, del contexto social en el que se vivía\, de lo que vino después en la mal llamada Transición.
URL:https://casadelbarriocarabanchel.es/event/presentacion-de-libro/
END:VEVENT
END:VCALENDAR