BEGIN:VCALENDAR
VERSION:2.0
PRODID:-//Casa del Barrio  de Carabanchel - ECPv6.15.20//NONSGML v1.0//EN
CALSCALE:GREGORIAN
METHOD:PUBLISH
X-ORIGINAL-URL:https://casadelbarriocarabanchel.es
X-WR-CALDESC:Eventos para Casa del Barrio  de Carabanchel
REFRESH-INTERVAL;VALUE=DURATION:PT1H
X-Robots-Tag:noindex
X-PUBLISHED-TTL:PT1H
BEGIN:VTIMEZONE
TZID:Europe/Madrid
BEGIN:DAYLIGHT
TZOFFSETFROM:+0100
TZOFFSETTO:+0200
TZNAME:CEST
DTSTART:20250330T010000
END:DAYLIGHT
BEGIN:STANDARD
TZOFFSETFROM:+0200
TZOFFSETTO:+0100
TZNAME:CET
DTSTART:20251026T010000
END:STANDARD
BEGIN:DAYLIGHT
TZOFFSETFROM:+0100
TZOFFSETTO:+0200
TZNAME:CEST
DTSTART:20260329T010000
END:DAYLIGHT
BEGIN:STANDARD
TZOFFSETFROM:+0200
TZOFFSETTO:+0100
TZNAME:CET
DTSTART:20261025T010000
END:STANDARD
BEGIN:DAYLIGHT
TZOFFSETFROM:+0100
TZOFFSETTO:+0200
TZNAME:CEST
DTSTART:20270328T010000
END:DAYLIGHT
BEGIN:STANDARD
TZOFFSETFROM:+0200
TZOFFSETTO:+0100
TZNAME:CET
DTSTART:20271031T010000
END:STANDARD
END:VTIMEZONE
BEGIN:VEVENT
DTSTART;TZID=Europe/Madrid:20260401T080000
DTEND;TZID=Europe/Madrid:20260430T230000
DTSTAMP:20260419T161838
CREATED:20260418T082647Z
LAST-MODIFIED:20260418T082647Z
UID:1201-1775030400-1777590000@casadelbarriocarabanchel.es
SUMMARY:Exposición de pegatinas de la transición española
DESCRIPTION:Carlos Vicent recopila durante el periodo de la transición española\, 1976-1982\, pegatinas de los movimientos sociales y culturales y hechos que ocurren en ese momento. \nLa colección se compone de cerca de doscientas cincuenta pegatinas que hacen un recorrido por momentos históricos. \nEstará expuesta a lo largo del mes de abril en la Casa del Barrio\, organizado por el Ateneo Republicano de Carabanchel
URL:https://casadelbarriocarabanchel.es/event/exposicion-de-pegatinas-de-la-transicion-espanola/
END:VEVENT
BEGIN:VEVENT
DTSTART;VALUE=DATE:20260411
DTEND;VALUE=DATE:20260412
DTSTAMP:20260419T161838
CREATED:20260217T193454Z
LAST-MODIFIED:20260217T193454Z
UID:1120-1775865600-1775951999@casadelbarriocarabanchel.es
SUMMARY:COCIDO REPUBLICANO
DESCRIPTION:Un año más\, queremos celebrar la República en Carabanchel\, para ello\, te animamos a participar en el tradicional Cocido de Carabanchel el sábado 11 de abril\, para lo cual tienes que adquirir previamente el bono de 10 euros contactando con el Ateneo Republicano a través del correo electrónico que figura en el cartel. \nA las 15\,30 tendremos la actuación musical de Orlis Pineda\, cuya entrada es libre. \nTe esperamos
URL:https://casadelbarriocarabanchel.es/event/cocido-republicano/
END:VEVENT
END:VCALENDAR