BEGIN:VCALENDAR
VERSION:2.0
PRODID:-//Casa del Barrio  de Carabanchel - ECPv6.15.20//NONSGML v1.0//EN
CALSCALE:GREGORIAN
METHOD:PUBLISH
X-WR-CALNAME:Casa del Barrio  de Carabanchel
X-ORIGINAL-URL:https://casadelbarriocarabanchel.es
X-WR-CALDESC:Eventos para Casa del Barrio  de Carabanchel
REFRESH-INTERVAL;VALUE=DURATION:PT1H
X-Robots-Tag:noindex
X-PUBLISHED-TTL:PT1H
BEGIN:VTIMEZONE
TZID:Europe/Madrid
BEGIN:DAYLIGHT
TZOFFSETFROM:+0100
TZOFFSETTO:+0200
TZNAME:CEST
DTSTART:20250330T010000
END:DAYLIGHT
BEGIN:STANDARD
TZOFFSETFROM:+0200
TZOFFSETTO:+0100
TZNAME:CET
DTSTART:20251026T010000
END:STANDARD
BEGIN:DAYLIGHT
TZOFFSETFROM:+0100
TZOFFSETTO:+0200
TZNAME:CEST
DTSTART:20260329T010000
END:DAYLIGHT
BEGIN:STANDARD
TZOFFSETFROM:+0200
TZOFFSETTO:+0100
TZNAME:CET
DTSTART:20261025T010000
END:STANDARD
BEGIN:DAYLIGHT
TZOFFSETFROM:+0100
TZOFFSETTO:+0200
TZNAME:CEST
DTSTART:20270328T010000
END:DAYLIGHT
BEGIN:STANDARD
TZOFFSETFROM:+0200
TZOFFSETTO:+0100
TZNAME:CET
DTSTART:20271031T010000
END:STANDARD
END:VTIMEZONE
BEGIN:VEVENT
DTSTART;TZID=Europe/Madrid:20260307T123000
DTEND;TZID=Europe/Madrid:20260307T170000
DTSTAMP:20260421T071352
CREATED:20260217T195410Z
LAST-MODIFIED:20260217T200757Z
UID:1125-1772886600-1772902800@casadelbarriocarabanchel.es
SUMMARY:1ª VERMÚ JAM SESSION. GRABACIÓN PÓDCAST "BUENOS DÍAS....¡SERÁN PA`TI!"
DESCRIPTION:Para la víspera del 8M desde el pódcast «Buenos días…¡Serán pa’ ti!» hemos preparado un programa especial que grabaremos en la Casa del Barrio de Carabanchel\, amenizado con artistas en directo y si alguien se anima\, habrá un rato de micro abierto. \nTeniendo en cuenta la fecha\, entre canción y canción\, charlaremos con Lucía Urquiaga (realizadora del programa «Sustancia Púrpura» de Radio Almaina) y con alguna de las artistas participantes\, sobre feminismos no institucionales y decoloniales . \nEste evento al que no puedes faltar será la 1ª Vermú Jam Session de nuestro pódcast y también tendremos en El Ambigú de la Casa del Barrio unas papas con mojo y alguna otra cosa de picoteo a precios populares para pasarlo bien. \n 
URL:https://casadelbarriocarabanchel.es/event/grabacion-podcast-buenos-dias-seran-pati/
END:VEVENT
BEGIN:VEVENT
DTSTART;TZID=Europe/Madrid:20260307T200000
DTEND;TZID=Europe/Madrid:20260307T230000
DTSTAMP:20260421T071352
CREATED:20260228T103423Z
LAST-MODIFIED:20260228T103423Z
UID:1139-1772913600-1772924400@casadelbarriocarabanchel.es
SUMMARY:EVENTO LITERARIO Y MUSICAL
DESCRIPTION:La presentación de esta obra es un recital de humanidad\, que sin duda te conmoverá. \nCada una de mis canciones\, un monólogo\, un cuento\, una gran historia para cantar y contar. \nEn directo la voz y la guitarra\, poniendo en valor la energía femenina de origen\, creadora de Mundos Nuevos\, Mundos Libres.
URL:https://casadelbarriocarabanchel.es/event/evento-literario-y-musical/
END:VEVENT
END:VCALENDAR