BEGIN:VCALENDAR
VERSION:2.0
PRODID:-//Casa del Barrio  de Carabanchel - ECPv6.15.20//NONSGML v1.0//EN
CALSCALE:GREGORIAN
METHOD:PUBLISH
X-WR-CALNAME:Casa del Barrio  de Carabanchel
X-ORIGINAL-URL:https://casadelbarriocarabanchel.es
X-WR-CALDESC:Eventos para Casa del Barrio  de Carabanchel
REFRESH-INTERVAL;VALUE=DURATION:PT1H
X-Robots-Tag:noindex
X-PUBLISHED-TTL:PT1H
BEGIN:VTIMEZONE
TZID:Europe/Madrid
BEGIN:DAYLIGHT
TZOFFSETFROM:+0100
TZOFFSETTO:+0200
TZNAME:CEST
DTSTART:20240331T010000
END:DAYLIGHT
BEGIN:STANDARD
TZOFFSETFROM:+0200
TZOFFSETTO:+0100
TZNAME:CET
DTSTART:20241027T010000
END:STANDARD
BEGIN:DAYLIGHT
TZOFFSETFROM:+0100
TZOFFSETTO:+0200
TZNAME:CEST
DTSTART:20250330T010000
END:DAYLIGHT
BEGIN:STANDARD
TZOFFSETFROM:+0200
TZOFFSETTO:+0100
TZNAME:CET
DTSTART:20251026T010000
END:STANDARD
BEGIN:DAYLIGHT
TZOFFSETFROM:+0100
TZOFFSETTO:+0200
TZNAME:CEST
DTSTART:20260329T010000
END:DAYLIGHT
BEGIN:STANDARD
TZOFFSETFROM:+0200
TZOFFSETTO:+0100
TZNAME:CET
DTSTART:20261025T010000
END:STANDARD
END:VTIMEZONE
BEGIN:VEVENT
DTSTART;TZID=Europe/Madrid:20251227T200000
DTEND;TZID=Europe/Madrid:20251227T200000
DTSTAMP:20260421T180241
CREATED:20251126T092235Z
LAST-MODIFIED:20251126T092235Z
UID:1030-1766865600-1766865600@casadelbarriocarabanchel.es
SUMMARY:Concierto "Rojo Cancionero"
DESCRIPTION:Rojo Cancionero regresa a la Casa del Barrio de Carabanchel. Una cita junto al Ateneo Republicano de Carabanchel para presentar “Todo se quema” el último trabajo que se lanzó la pasada primavera. \n Sábado 27 de diciembre a las 20hs \n 
URL:https://casadelbarriocarabanchel.es/event/concierto-rojo-cancionero-2/
END:VEVENT
END:VCALENDAR