BEGIN:VCALENDAR
VERSION:2.0
PRODID:-//Casa del Barrio  de Carabanchel - ECPv6.15.20//NONSGML v1.0//EN
CALSCALE:GREGORIAN
METHOD:PUBLISH
X-WR-CALNAME:Casa del Barrio  de Carabanchel
X-ORIGINAL-URL:https://casadelbarriocarabanchel.es
X-WR-CALDESC:Eventos para Casa del Barrio  de Carabanchel
REFRESH-INTERVAL;VALUE=DURATION:PT1H
X-Robots-Tag:noindex
X-PUBLISHED-TTL:PT1H
BEGIN:VTIMEZONE
TZID:Europe/Madrid
BEGIN:DAYLIGHT
TZOFFSETFROM:+0100
TZOFFSETTO:+0200
TZNAME:CEST
DTSTART:20240331T010000
END:DAYLIGHT
BEGIN:STANDARD
TZOFFSETFROM:+0200
TZOFFSETTO:+0100
TZNAME:CET
DTSTART:20241027T010000
END:STANDARD
BEGIN:DAYLIGHT
TZOFFSETFROM:+0100
TZOFFSETTO:+0200
TZNAME:CEST
DTSTART:20250330T010000
END:DAYLIGHT
BEGIN:STANDARD
TZOFFSETFROM:+0200
TZOFFSETTO:+0100
TZNAME:CET
DTSTART:20251026T010000
END:STANDARD
BEGIN:DAYLIGHT
TZOFFSETFROM:+0100
TZOFFSETTO:+0200
TZNAME:CEST
DTSTART:20260329T010000
END:DAYLIGHT
BEGIN:STANDARD
TZOFFSETFROM:+0200
TZOFFSETTO:+0100
TZNAME:CET
DTSTART:20261025T010000
END:STANDARD
END:VTIMEZONE
BEGIN:VEVENT
DTSTART;TZID=Europe/Madrid:20251213T110000
DTEND;TZID=Europe/Madrid:20251213T110000
DTSTAMP:20260421T180242
CREATED:20251120T084529Z
LAST-MODIFIED:20251120T084529Z
UID:1006-1765623600-1765623600@casadelbarriocarabanchel.es
SUMMARY:Taller: "Envejecimiento activo"
DESCRIPTION:Desde la sección sindical de CGT del hospital Gómez Ulla intentamos implicarnos con la gente del barrio ya que la mitad del Hospital son los trabajadores y la otra mitad sus pacientes\, vecinos… Por eso\, hacemos actividades pensadas para ellos y en este caso hemos preparado un Taller de Envejecimiento Activo para personas mayores que será impartido por Rebeca y Eva\, terapeuta ocupacional y enfermera\, respectivamente\, y trabajadoras del Hospital.
URL:https://casadelbarriocarabanchel.es/event/taller-envejecimiento-activo/
END:VEVENT
BEGIN:VEVENT
DTSTART;TZID=Europe/Madrid:20251213T180000
DTEND;TZID=Europe/Madrid:20251213T180000
DTSTAMP:20260421T180242
CREATED:20251105T093549Z
LAST-MODIFIED:20251209T110922Z
UID:947-1765648800-1765648800@casadelbarriocarabanchel.es
SUMMARY:Espectáculo de Magia: "Desafía lo imposible con Javi Karoll"
DESCRIPTION:Javi Karoll te invita a cruzar la frontera entre lo real y lo increíble. Un espectáculo para todas las edades donde el misterio\, el humor y la ilusión se unen en un viaje inolvidable. ¿Te atreves a desafiar lo imposible?
URL:https://casadelbarriocarabanchel.es/event/espectaculo-de-magia-desafia-lo-imposible-con-javi-karoll/
END:VEVENT
END:VCALENDAR