BEGIN:VCALENDAR
VERSION:2.0
PRODID:-//Casa del Barrio  de Carabanchel - ECPv6.15.20//NONSGML v1.0//EN
CALSCALE:GREGORIAN
METHOD:PUBLISH
X-ORIGINAL-URL:https://casadelbarriocarabanchel.es
X-WR-CALDESC:Eventos para Casa del Barrio  de Carabanchel
REFRESH-INTERVAL;VALUE=DURATION:PT1H
X-Robots-Tag:noindex
X-PUBLISHED-TTL:PT1H
BEGIN:VTIMEZONE
TZID:Europe/Madrid
BEGIN:DAYLIGHT
TZOFFSETFROM:+0100
TZOFFSETTO:+0200
TZNAME:CEST
DTSTART:20240331T010000
END:DAYLIGHT
BEGIN:STANDARD
TZOFFSETFROM:+0200
TZOFFSETTO:+0100
TZNAME:CET
DTSTART:20241027T010000
END:STANDARD
BEGIN:DAYLIGHT
TZOFFSETFROM:+0100
TZOFFSETTO:+0200
TZNAME:CEST
DTSTART:20250330T010000
END:DAYLIGHT
BEGIN:STANDARD
TZOFFSETFROM:+0200
TZOFFSETTO:+0100
TZNAME:CET
DTSTART:20251026T010000
END:STANDARD
BEGIN:DAYLIGHT
TZOFFSETFROM:+0100
TZOFFSETTO:+0200
TZNAME:CEST
DTSTART:20260329T010000
END:DAYLIGHT
BEGIN:STANDARD
TZOFFSETFROM:+0200
TZOFFSETTO:+0100
TZNAME:CET
DTSTART:20261025T010000
END:STANDARD
END:VTIMEZONE
BEGIN:VEVENT
DTSTART;TZID=Europe/Madrid:20251206T200000
DTEND;TZID=Europe/Madrid:20251206T200000
DTSTAMP:20260421T180256
CREATED:20251126T092428Z
LAST-MODIFIED:20251126T092428Z
UID:1033-1765051200-1765051200@casadelbarriocarabanchel.es
SUMMARY:Concierto "Gustavo Rosacruz"
DESCRIPTION:Como parte de su primera visita a España\, Gustavo Rosacruz se presentará este 6 de diciembre en “La Casa del Barrio”. La propuesta del cantautor mexicano toma como eje central las raíces acústicas de la canción\, coloreándolas con sonidos y ambientes inesperados\, evocando así romances profundos y atemporales. \nEl estreno de su canción “Dos Favores”\, es la magna carta de presentación de un catálogo vasto y diverso\, que podrá escucharse con amplitud y potencia.
URL:https://casadelbarriocarabanchel.es/event/concierto-gustavo-rosacruz/
END:VEVENT
END:VCALENDAR