BEGIN:VCALENDAR
VERSION:2.0
PRODID:-//Casa del Barrio  de Carabanchel - ECPv6.15.20//NONSGML v1.0//EN
CALSCALE:GREGORIAN
METHOD:PUBLISH
X-ORIGINAL-URL:https://casadelbarriocarabanchel.es
X-WR-CALDESC:Eventos para Casa del Barrio  de Carabanchel
REFRESH-INTERVAL;VALUE=DURATION:PT1H
X-Robots-Tag:noindex
X-PUBLISHED-TTL:PT1H
BEGIN:VTIMEZONE
TZID:Europe/Madrid
BEGIN:DAYLIGHT
TZOFFSETFROM:+0100
TZOFFSETTO:+0200
TZNAME:CEST
DTSTART:20240331T010000
END:DAYLIGHT
BEGIN:STANDARD
TZOFFSETFROM:+0200
TZOFFSETTO:+0100
TZNAME:CET
DTSTART:20241027T010000
END:STANDARD
BEGIN:DAYLIGHT
TZOFFSETFROM:+0100
TZOFFSETTO:+0200
TZNAME:CEST
DTSTART:20250330T010000
END:DAYLIGHT
BEGIN:STANDARD
TZOFFSETFROM:+0200
TZOFFSETTO:+0100
TZNAME:CET
DTSTART:20251026T010000
END:STANDARD
BEGIN:DAYLIGHT
TZOFFSETFROM:+0100
TZOFFSETTO:+0200
TZNAME:CEST
DTSTART:20260329T010000
END:DAYLIGHT
BEGIN:STANDARD
TZOFFSETFROM:+0200
TZOFFSETTO:+0100
TZNAME:CET
DTSTART:20261025T010000
END:STANDARD
END:VTIMEZONE
BEGIN:VEVENT
DTSTART;TZID=Europe/Madrid:20251130T143000
DTEND;TZID=Europe/Madrid:20251130T143000
DTSTAMP:20260421T194353
CREATED:20251120T084904Z
LAST-MODIFIED:20251125T081251Z
UID:1008-1764513000-1764513000@casadelbarriocarabanchel.es
SUMMARY:AJT "Jornadas por la memoria"
DESCRIPTION:Nuestra actividad como Asamblea de la Juventud Trabajadora de Carabanchel que es el espacio de base de la Coordinadora Juvenil Socialista en el barrio\, es relacionarnos con los colectivos del barrio y participar de las luchas que hay nuestro barrio. \nEste acto de memoria histórica\, que tratara el tema de la Cárcel de Carabanchel\, las luchas antifranquistas y la memoria de la clase trabajadora\, lo enmarcamos en el mes de noviembre un mes simbólico para la lucha antifascista (por ejemplo\, la manifestación de la coordinadora antifascista de Madrid o la de Carlos Palomino en Usera). \nEl acto del domingo va a consistir en: una ruta histórica por los terrenos de la cárcel y sitios simbólicos del barrio que terminará con la llegada a La Casa del Barrio sobre las 14:30 aproximadamente. A partir de ahí\, abriremos la barra y haremos una comida popular\, nuestra idea también es poner café después de la comida. La parte central del acto será una conversación con Luis Antonio Ruiz Casero autor del libro «Carabanchel. La estrella fe la muerte del franquismo» y conjuntamente con 2 expresxs de la cárcel que pertenecen a la asociación La Comuna. Cuando acabe la conversación\, daremos una charla sobre franquismo\, transición y auge reaccionario unido a la importancia de la memoria histórica. Y para terminar haremos varios conciertos. A lo largo del acto habrá una exposición de fotografías históricas que en parte nos ha cedido Karabanchel.com y proyectaremos un documental sobre la Cárcel.
URL:https://casadelbarriocarabanchel.es/event/jornada-ajt/
END:VEVENT
END:VCALENDAR