BEGIN:VCALENDAR
VERSION:2.0
PRODID:-//Casa del Barrio  de Carabanchel - ECPv6.15.20//NONSGML v1.0//EN
CALSCALE:GREGORIAN
METHOD:PUBLISH
X-WR-CALNAME:Casa del Barrio  de Carabanchel
X-ORIGINAL-URL:https://casadelbarriocarabanchel.es
X-WR-CALDESC:Eventos para Casa del Barrio  de Carabanchel
REFRESH-INTERVAL;VALUE=DURATION:PT1H
X-Robots-Tag:noindex
X-PUBLISHED-TTL:PT1H
BEGIN:VTIMEZONE
TZID:Europe/Madrid
BEGIN:DAYLIGHT
TZOFFSETFROM:+0100
TZOFFSETTO:+0200
TZNAME:CEST
DTSTART:20240331T010000
END:DAYLIGHT
BEGIN:STANDARD
TZOFFSETFROM:+0200
TZOFFSETTO:+0100
TZNAME:CET
DTSTART:20241027T010000
END:STANDARD
BEGIN:DAYLIGHT
TZOFFSETFROM:+0100
TZOFFSETTO:+0200
TZNAME:CEST
DTSTART:20250330T010000
END:DAYLIGHT
BEGIN:STANDARD
TZOFFSETFROM:+0200
TZOFFSETTO:+0100
TZNAME:CET
DTSTART:20251026T010000
END:STANDARD
BEGIN:DAYLIGHT
TZOFFSETFROM:+0100
TZOFFSETTO:+0200
TZNAME:CEST
DTSTART:20260329T010000
END:DAYLIGHT
BEGIN:STANDARD
TZOFFSETFROM:+0200
TZOFFSETTO:+0100
TZNAME:CET
DTSTART:20261025T010000
END:STANDARD
END:VTIMEZONE
BEGIN:VEVENT
DTSTART;TZID=Europe/Madrid:20251109T190000
DTEND;TZID=Europe/Madrid:20251109T190000
DTSTAMP:20260421T211717
CREATED:20251102T205534Z
LAST-MODIFIED:20251102T205534Z
UID:925-1762714800-1762714800@casadelbarriocarabanchel.es
SUMMARY:Concierto: "Ojos de Gamba"
DESCRIPTION:Ojos de Gamba mezcla música fresca de autor con grandes dosis de humor.\nLa improvisación\, cercanía e interacción con el público son las señas de identidad de este grupo que\, usando géneros tan variados como el pop\, la bossa-nova\, la rumba o el rock\, hila historias fuera de lo común.\nY es que las canciones de Ojos de Gamba pueden ser divertidas o sensibles\, pero siempre sorprenden y huyen de los estereotipos.
URL:https://casadelbarriocarabanchel.es/event/concierto-ojos-de-gamba-5/
END:VEVENT
END:VCALENDAR