BEGIN:VCALENDAR
VERSION:2.0
PRODID:-//Casa del Barrio  de Carabanchel - ECPv6.15.20//NONSGML v1.0//EN
CALSCALE:GREGORIAN
METHOD:PUBLISH
X-ORIGINAL-URL:https://casadelbarriocarabanchel.es
X-WR-CALDESC:Eventos para Casa del Barrio  de Carabanchel
REFRESH-INTERVAL;VALUE=DURATION:PT1H
X-Robots-Tag:noindex
X-PUBLISHED-TTL:PT1H
BEGIN:VTIMEZONE
TZID:Europe/Madrid
BEGIN:DAYLIGHT
TZOFFSETFROM:+0100
TZOFFSETTO:+0200
TZNAME:CEST
DTSTART:20240331T010000
END:DAYLIGHT
BEGIN:STANDARD
TZOFFSETFROM:+0200
TZOFFSETTO:+0100
TZNAME:CET
DTSTART:20241027T010000
END:STANDARD
BEGIN:DAYLIGHT
TZOFFSETFROM:+0100
TZOFFSETTO:+0200
TZNAME:CEST
DTSTART:20250330T010000
END:DAYLIGHT
BEGIN:STANDARD
TZOFFSETFROM:+0200
TZOFFSETTO:+0100
TZNAME:CET
DTSTART:20251026T010000
END:STANDARD
BEGIN:DAYLIGHT
TZOFFSETFROM:+0100
TZOFFSETTO:+0200
TZNAME:CEST
DTSTART:20260329T010000
END:DAYLIGHT
BEGIN:STANDARD
TZOFFSETFROM:+0200
TZOFFSETTO:+0100
TZNAME:CET
DTSTART:20261025T010000
END:STANDARD
END:VTIMEZONE
BEGIN:VEVENT
DTSTART;TZID=Europe/Madrid:20250622T190000
DTEND;TZID=Europe/Madrid:20250622T190000
DTSTAMP:20260422T032959
CREATED:20250609T082425Z
LAST-MODIFIED:20250609T082425Z
UID:805-1750618800-1750618800@casadelbarriocarabanchel.es
SUMMARY:Danza "Festival alumnas Sandra Prado"
DESCRIPTION:El domingo 22 de Junio de 2025\, a las 19 h.\, tendrá lugar la Muestra de Danza de las alumnas de Sandra Prado. \n  \nPodréis observar diferentes coreografías de diversos estilos de danzas como danza del vientre\, fusión tribal y danzas urbanas. \n  \nEvento en que te apetecerá levantarte a bailar y apuntarte a cualquier estilo\, porque… “Un día sin danzar es un día perdido”.
URL:https://casadelbarriocarabanchel.es/event/danza-festival-alumnas-sandra-prado/
END:VEVENT
END:VCALENDAR