BEGIN:VCALENDAR
VERSION:2.0
PRODID:-//Casa del Barrio  de Carabanchel - ECPv6.15.20//NONSGML v1.0//EN
CALSCALE:GREGORIAN
METHOD:PUBLISH
X-ORIGINAL-URL:https://casadelbarriocarabanchel.es
X-WR-CALDESC:Eventos para Casa del Barrio  de Carabanchel
REFRESH-INTERVAL;VALUE=DURATION:PT1H
X-Robots-Tag:noindex
X-PUBLISHED-TTL:PT1H
BEGIN:VTIMEZONE
TZID:Europe/Madrid
BEGIN:DAYLIGHT
TZOFFSETFROM:+0100
TZOFFSETTO:+0200
TZNAME:CEST
DTSTART:20240331T010000
END:DAYLIGHT
BEGIN:STANDARD
TZOFFSETFROM:+0200
TZOFFSETTO:+0100
TZNAME:CET
DTSTART:20241027T010000
END:STANDARD
BEGIN:DAYLIGHT
TZOFFSETFROM:+0100
TZOFFSETTO:+0200
TZNAME:CEST
DTSTART:20250330T010000
END:DAYLIGHT
BEGIN:STANDARD
TZOFFSETFROM:+0200
TZOFFSETTO:+0100
TZNAME:CET
DTSTART:20251026T010000
END:STANDARD
BEGIN:DAYLIGHT
TZOFFSETFROM:+0100
TZOFFSETTO:+0200
TZNAME:CEST
DTSTART:20260329T010000
END:DAYLIGHT
BEGIN:STANDARD
TZOFFSETFROM:+0200
TZOFFSETTO:+0100
TZNAME:CET
DTSTART:20261025T010000
END:STANDARD
END:VTIMEZONE
BEGIN:VEVENT
DTSTART;TZID=Europe/Madrid:20250606T200000
DTEND;TZID=Europe/Madrid:20250606T200000
DTSTAMP:20260422T034032
CREATED:20250411T090544Z
LAST-MODIFIED:20250414T103543Z
UID:716-1749240000-1749240000@casadelbarriocarabanchel.es
SUMMARY:Concierto "Javi Molina"
DESCRIPTION:Tras los pasos de Joaquín Sabina y Javier Krahe\, este no tan joven cantautor mezcla en sus canciones ironía\, poesía y humor.  \nEste proyecto musical se caracteriza por un repertorio de composiciones propias en castellano que bebe de fuentes tan diversas como el jazz\, el pop\, el folk y la chanson francesa.  \nHuye de convencionalismos con un particular punto de vista sobre el paso del tiempo\, el amor y el humor.
URL:https://casadelbarriocarabanchel.es/event/concierto-javi-molina/
END:VEVENT
END:VCALENDAR