BEGIN:VCALENDAR
VERSION:2.0
PRODID:-//Casa del Barrio  de Carabanchel - ECPv6.15.20//NONSGML v1.0//EN
CALSCALE:GREGORIAN
METHOD:PUBLISH
X-ORIGINAL-URL:https://casadelbarriocarabanchel.es
X-WR-CALDESC:Eventos para Casa del Barrio  de Carabanchel
REFRESH-INTERVAL;VALUE=DURATION:PT1H
X-Robots-Tag:noindex
X-PUBLISHED-TTL:PT1H
BEGIN:VTIMEZONE
TZID:Europe/Madrid
BEGIN:DAYLIGHT
TZOFFSETFROM:+0100
TZOFFSETTO:+0200
TZNAME:CEST
DTSTART:20240331T010000
END:DAYLIGHT
BEGIN:STANDARD
TZOFFSETFROM:+0200
TZOFFSETTO:+0100
TZNAME:CET
DTSTART:20241027T010000
END:STANDARD
BEGIN:DAYLIGHT
TZOFFSETFROM:+0100
TZOFFSETTO:+0200
TZNAME:CEST
DTSTART:20250330T010000
END:DAYLIGHT
BEGIN:STANDARD
TZOFFSETFROM:+0200
TZOFFSETTO:+0100
TZNAME:CET
DTSTART:20251026T010000
END:STANDARD
BEGIN:DAYLIGHT
TZOFFSETFROM:+0100
TZOFFSETTO:+0200
TZNAME:CEST
DTSTART:20260329T010000
END:DAYLIGHT
BEGIN:STANDARD
TZOFFSETFROM:+0200
TZOFFSETTO:+0100
TZNAME:CET
DTSTART:20261025T010000
END:STANDARD
END:VTIMEZONE
BEGIN:VEVENT
DTSTART;TZID=Europe/Madrid:20250510T200000
DTEND;TZID=Europe/Madrid:20250510T200000
DTSTAMP:20260422T070454
CREATED:20250213T085817Z
LAST-MODIFIED:20250213T085817Z
UID:589-1746907200-1746907200@casadelbarriocarabanchel.es
SUMMARY:Teatro "Microteatros para irnos al huerto"
DESCRIPTION:La compañía Peripatétikas Vallekanas representa en la Casa del Barrio. \nEl proyecto consta de cuatro piezas de microteatro\, con una duración total de aproximadamente 80 minutos.\nLas piezas se representan en el siguiente orden:\n• Sonrisas y lágrimas sería un título perfecto si no fuera porque ya se ha utilizado. Una obra de Emilio Mahugo Serrano.\n• El llanto de las plantas. Una obra de Almudena Pérez Cruz.\n• Todos los gatos son pardos y a veces crece un huerto en la estación. Una obra de Almudena Pérez Cruz.\n• El extraño caso de un asesinado amarillo. Una obra de Emilio Mahugo Serrano.
URL:https://casadelbarriocarabanchel.es/event/teatro-microteatros-para-irnos-al-huerto/
END:VEVENT
END:VCALENDAR