BEGIN:VCALENDAR
VERSION:2.0
PRODID:-//Casa del Barrio  de Carabanchel - ECPv6.15.20//NONSGML v1.0//EN
CALSCALE:GREGORIAN
METHOD:PUBLISH
X-ORIGINAL-URL:https://casadelbarriocarabanchel.es
X-WR-CALDESC:Eventos para Casa del Barrio  de Carabanchel
REFRESH-INTERVAL;VALUE=DURATION:PT1H
X-Robots-Tag:noindex
X-PUBLISHED-TTL:PT1H
BEGIN:VTIMEZONE
TZID:Europe/Madrid
BEGIN:DAYLIGHT
TZOFFSETFROM:+0100
TZOFFSETTO:+0200
TZNAME:CEST
DTSTART:20240331T010000
END:DAYLIGHT
BEGIN:STANDARD
TZOFFSETFROM:+0200
TZOFFSETTO:+0100
TZNAME:CET
DTSTART:20241027T010000
END:STANDARD
BEGIN:DAYLIGHT
TZOFFSETFROM:+0100
TZOFFSETTO:+0200
TZNAME:CEST
DTSTART:20250330T010000
END:DAYLIGHT
BEGIN:STANDARD
TZOFFSETFROM:+0200
TZOFFSETTO:+0100
TZNAME:CET
DTSTART:20251026T010000
END:STANDARD
BEGIN:DAYLIGHT
TZOFFSETFROM:+0100
TZOFFSETTO:+0200
TZNAME:CEST
DTSTART:20260329T010000
END:DAYLIGHT
BEGIN:STANDARD
TZOFFSETFROM:+0200
TZOFFSETTO:+0100
TZNAME:CET
DTSTART:20261025T010000
END:STANDARD
END:VTIMEZONE
BEGIN:VEVENT
DTSTART;TZID=Europe/Madrid:20250427T190000
DTEND;TZID=Europe/Madrid:20250427T190000
DTSTAMP:20260422T085615
CREATED:20250408T085005Z
LAST-MODIFIED:20250408T085005Z
UID:700-1745780400-1745780400@casadelbarriocarabanchel.es
SUMMARY:Espectáculo de humor "Open Mics de Comedy Interruptus"
DESCRIPTION:¡🌟 No te pierdas la Jornada Cultural Participativa! 🌟 \nEste evento de micrófono abierto\, organizado por Comedy Interruptus\, promete ser una experiencia inolvidable llena de risas y buen ambiente. 🎤✨ \nLos talentosos presentadores de la gala\, Paula Cabral y Chechu Bermejo\, nos guiarán a través de una noche espectacular. Disfrutaremos de las actuaciones de monologuistas destacados como Concha C.\, Antonio Ales y Nuncy Ramos\, quienes aportarán su vasta trayectoria artística y su humor contagioso\, ¡todos ellos pertenecientes al famoso Club de la Comedia! 😂🙌 \nCon una duración aproximada de 2 horas\, el evento incluirá dos intermedios de 7 minutos\, perfectos para que el público se relaje y disfrute de lo mejor de la barra. 🍹 \nAsí que\, ¡prepara tus risas y acompáñanos en esta fiesta del humor! No olvides invitar a tus amigos y ser parte de una jornada llena de diversión y buena compañía. ¡Te esperamos! 🎉🥳 \n#JornadaCultural #ComedyInterruptus #MicrófonoAbierto #RisasAseguradas #HumorEnVivo
URL:https://casadelbarriocarabanchel.es/event/espectaculo-de-humor-open-mics-de-comedy-interruptus/
END:VEVENT
END:VCALENDAR