BEGIN:VCALENDAR
VERSION:2.0
PRODID:-//Casa del Barrio  de Carabanchel - ECPv6.15.20//NONSGML v1.0//EN
CALSCALE:GREGORIAN
METHOD:PUBLISH
X-ORIGINAL-URL:https://casadelbarriocarabanchel.es
X-WR-CALDESC:Eventos para Casa del Barrio  de Carabanchel
REFRESH-INTERVAL;VALUE=DURATION:PT1H
X-Robots-Tag:noindex
X-PUBLISHED-TTL:PT1H
BEGIN:VTIMEZONE
TZID:Europe/Madrid
BEGIN:DAYLIGHT
TZOFFSETFROM:+0100
TZOFFSETTO:+0200
TZNAME:CEST
DTSTART:20240331T010000
END:DAYLIGHT
BEGIN:STANDARD
TZOFFSETFROM:+0200
TZOFFSETTO:+0100
TZNAME:CET
DTSTART:20241027T010000
END:STANDARD
BEGIN:DAYLIGHT
TZOFFSETFROM:+0100
TZOFFSETTO:+0200
TZNAME:CEST
DTSTART:20250330T010000
END:DAYLIGHT
BEGIN:STANDARD
TZOFFSETFROM:+0200
TZOFFSETTO:+0100
TZNAME:CET
DTSTART:20251026T010000
END:STANDARD
BEGIN:DAYLIGHT
TZOFFSETFROM:+0100
TZOFFSETTO:+0200
TZNAME:CEST
DTSTART:20260329T010000
END:DAYLIGHT
BEGIN:STANDARD
TZOFFSETFROM:+0200
TZOFFSETTO:+0100
TZNAME:CET
DTSTART:20261025T010000
END:STANDARD
END:VTIMEZONE
BEGIN:VEVENT
DTSTART;TZID=Europe/Madrid:20250425T200000
DTEND;TZID=Europe/Madrid:20250425T200000
DTSTAMP:20260422T085459
CREATED:20250326T100320Z
LAST-MODIFIED:20250422T092447Z
UID:679-1745611200-1745611200@casadelbarriocarabanchel.es
SUMMARY:Concierto "Balta Cano"
DESCRIPTION:Balta Cano (1979) Cantautor y compositor de diferentes estilos. Fabricante de canciones y poemas\, con una andadura musical de más de veinte años\, de los cuales quince de ellos en solitario tras tiempo en agrupaciones de rock urbano. Con los discos publicados «Analogía Punta» 2017 y «En la cuesta de la ola» 2020. Producido por el también músico y productor Mariano Fugillo. Trabajos llenos de matices e influencias en los que ha contado con las colaboraciones de Rozalén\, Pez Mago\, Duende Josele\, Carlos Chaouen\, el tenor Aquiles Machado\, Toni Marmota ( fundador y bajista de La Frontera) entre otras colaboraciones. En sus directos es notoria su personalidad al igual que su fuerza\, sensibilidad\, sentido del humor y conexión con el público.»
URL:https://casadelbarriocarabanchel.es/event/concierto-balta-cano-2/
END:VEVENT
END:VCALENDAR