BEGIN:VCALENDAR
VERSION:2.0
PRODID:-//Casa del Barrio  de Carabanchel - ECPv6.15.20//NONSGML v1.0//EN
CALSCALE:GREGORIAN
METHOD:PUBLISH
X-WR-CALNAME:Casa del Barrio  de Carabanchel
X-ORIGINAL-URL:https://casadelbarriocarabanchel.es
X-WR-CALDESC:Eventos para Casa del Barrio  de Carabanchel
REFRESH-INTERVAL;VALUE=DURATION:PT1H
X-Robots-Tag:noindex
X-PUBLISHED-TTL:PT1H
BEGIN:VTIMEZONE
TZID:Europe/Madrid
BEGIN:DAYLIGHT
TZOFFSETFROM:+0100
TZOFFSETTO:+0200
TZNAME:CEST
DTSTART:20240331T010000
END:DAYLIGHT
BEGIN:STANDARD
TZOFFSETFROM:+0200
TZOFFSETTO:+0100
TZNAME:CET
DTSTART:20241027T010000
END:STANDARD
BEGIN:DAYLIGHT
TZOFFSETFROM:+0100
TZOFFSETTO:+0200
TZNAME:CEST
DTSTART:20250330T010000
END:DAYLIGHT
BEGIN:STANDARD
TZOFFSETFROM:+0200
TZOFFSETTO:+0100
TZNAME:CET
DTSTART:20251026T010000
END:STANDARD
BEGIN:DAYLIGHT
TZOFFSETFROM:+0100
TZOFFSETTO:+0200
TZNAME:CEST
DTSTART:20260329T010000
END:DAYLIGHT
BEGIN:STANDARD
TZOFFSETFROM:+0200
TZOFFSETTO:+0100
TZNAME:CET
DTSTART:20261025T010000
END:STANDARD
END:VTIMEZONE
BEGIN:VEVENT
DTSTART;TZID=Europe/Madrid:20250405T210000
DTEND;TZID=Europe/Madrid:20250405T210000
DTSTAMP:20260422T085510
CREATED:20250306T103358Z
LAST-MODIFIED:20250325T104729Z
UID:637-1743886800-1743886800@casadelbarriocarabanchel.es
SUMMARY:Concierto blues y folk "To brave my soul y Conjunto Incierto"
DESCRIPTION:El conjunto incierto surge cuando tres músicos de extensa trayectoria: Julio Cano\, Santi Bronson y Paco Dominguez se cruzan en multitud de jam sessions y deciden emprender un proyecto de rock blues con pinceladas de folk que repasa y redefine repertorios clasicos y temas propios. \nTo Brave My Soul es el proyecto en solitario del músico madrileño Rafa Pastor al que se une como bajista Miguel Angel Herranz «Moyi». Tras militar en varias bandas decide crear TBMS para desplegar su creatividad en clave de Rock.\nCon influencias variadas como Joy Division\,Nirvana o The cure desataca un estilo mas oscuro que en sus anteriores trabajos.
URL:https://casadelbarriocarabanchel.es/event/concierto-blues-y-folk-to-brave-my-soul-y-concierto-incierto/
END:VEVENT
END:VCALENDAR