BEGIN:VCALENDAR
VERSION:2.0
PRODID:-//Casa del Barrio  de Carabanchel - ECPv6.15.20//NONSGML v1.0//EN
CALSCALE:GREGORIAN
METHOD:PUBLISH
X-ORIGINAL-URL:https://casadelbarriocarabanchel.es
X-WR-CALDESC:Eventos para Casa del Barrio  de Carabanchel
REFRESH-INTERVAL;VALUE=DURATION:PT1H
X-Robots-Tag:noindex
X-PUBLISHED-TTL:PT1H
BEGIN:VTIMEZONE
TZID:Europe/Madrid
BEGIN:DAYLIGHT
TZOFFSETFROM:+0100
TZOFFSETTO:+0200
TZNAME:CEST
DTSTART:20240331T010000
END:DAYLIGHT
BEGIN:STANDARD
TZOFFSETFROM:+0200
TZOFFSETTO:+0100
TZNAME:CET
DTSTART:20241027T010000
END:STANDARD
BEGIN:DAYLIGHT
TZOFFSETFROM:+0100
TZOFFSETTO:+0200
TZNAME:CEST
DTSTART:20250330T010000
END:DAYLIGHT
BEGIN:STANDARD
TZOFFSETFROM:+0200
TZOFFSETTO:+0100
TZNAME:CET
DTSTART:20251026T010000
END:STANDARD
BEGIN:DAYLIGHT
TZOFFSETFROM:+0100
TZOFFSETTO:+0200
TZNAME:CEST
DTSTART:20260329T010000
END:DAYLIGHT
BEGIN:STANDARD
TZOFFSETFROM:+0200
TZOFFSETTO:+0100
TZNAME:CET
DTSTART:20261025T010000
END:STANDARD
END:VTIMEZONE
BEGIN:VEVENT
DTSTART;TZID=Europe/Madrid:20250228T190000
DTEND;TZID=Europe/Madrid:20250228T190000
DTSTAMP:20260422T085618
CREATED:20250225T093133Z
LAST-MODIFIED:20250225T100400Z
UID:601-1740769200-1740769200@casadelbarriocarabanchel.es
SUMMARY:Concierto "Pabloerre"
DESCRIPTION:Pabloerre\, cantor de lo cotidiano y vecino de Carabanchel. En mis canciones todo lo hago yo sólo\, música\, letra (salvo 3 temas)\, instrumentación\, arreglos y grabación. Me hice cantautor cuando me jubilé; hasta ahora tengo unas 70 canciones registradas. Tengo canal en YouTube y Facebook. En mis canciones me gusta jugar con el doble sentido. Canto en acústico con mi guitarra y en Play back\, me ayudo de un proyector para los subtítulos porque parece ser que las letras son el cuerpo de mis canciones. Hago canciones a cualquier cosa y también canto temas de Serrat\, Sabina… los de mi generación.
URL:https://casadelbarriocarabanchel.es/event/concierto-pabloerre/
END:VEVENT
END:VCALENDAR