BEGIN:VCALENDAR
VERSION:2.0
PRODID:-//Casa del Barrio  de Carabanchel - ECPv6.15.20//NONSGML v1.0//EN
CALSCALE:GREGORIAN
METHOD:PUBLISH
X-WR-CALNAME:Casa del Barrio  de Carabanchel
X-ORIGINAL-URL:https://casadelbarriocarabanchel.es
X-WR-CALDESC:Eventos para Casa del Barrio  de Carabanchel
REFRESH-INTERVAL;VALUE=DURATION:PT1H
X-Robots-Tag:noindex
X-PUBLISHED-TTL:PT1H
BEGIN:VTIMEZONE
TZID:Europe/Madrid
BEGIN:DAYLIGHT
TZOFFSETFROM:+0100
TZOFFSETTO:+0200
TZNAME:CEST
DTSTART:20240331T010000
END:DAYLIGHT
BEGIN:STANDARD
TZOFFSETFROM:+0200
TZOFFSETTO:+0100
TZNAME:CET
DTSTART:20241027T010000
END:STANDARD
BEGIN:DAYLIGHT
TZOFFSETFROM:+0100
TZOFFSETTO:+0200
TZNAME:CEST
DTSTART:20250330T010000
END:DAYLIGHT
BEGIN:STANDARD
TZOFFSETFROM:+0200
TZOFFSETTO:+0100
TZNAME:CET
DTSTART:20251026T010000
END:STANDARD
BEGIN:DAYLIGHT
TZOFFSETFROM:+0100
TZOFFSETTO:+0200
TZNAME:CEST
DTSTART:20260329T010000
END:DAYLIGHT
BEGIN:STANDARD
TZOFFSETFROM:+0200
TZOFFSETTO:+0100
TZNAME:CET
DTSTART:20261025T010000
END:STANDARD
END:VTIMEZONE
BEGIN:VEVENT
DTSTART;TZID=Europe/Madrid:20250214T200000
DTEND;TZID=Europe/Madrid:20250214T200000
DTSTAMP:20260422T103921
CREATED:20250127T093644Z
LAST-MODIFIED:20250127T093644Z
UID:560-1739563200-1739563200@casadelbarriocarabanchel.es
SUMMARY:Presentación del libro "La ropa de difuntos que habita los armarios" de Luis Farnox
DESCRIPTION:“Sólo un mecánico podría representar gráficamente los fonemas que componen “poema” de esta guisa: poe+. Sólo si se trata\, concretamente\, de un mecánico del swing\, puede hacer las canciones del Farnox. Y sólo si es Luis Farnox puede construir un libro con 70 ilustraciones (a máquina inteligente y a mano) y poe+ y polillas\, que se titula La ropa de difuntos que habita los armarios\, y que es espléndido.” \n Víctor Claudín (Periodista y escritor)
URL:https://casadelbarriocarabanchel.es/event/presentacion-del-libro-la-ropa-de-difuntos-que-habita-los-armarios-de-luis-farnox/
END:VEVENT
END:VCALENDAR