BEGIN:VCALENDAR
VERSION:2.0
PRODID:-//Casa del Barrio  de Carabanchel - ECPv6.15.20//NONSGML v1.0//EN
CALSCALE:GREGORIAN
METHOD:PUBLISH
X-ORIGINAL-URL:https://casadelbarriocarabanchel.es
X-WR-CALDESC:Eventos para Casa del Barrio  de Carabanchel
REFRESH-INTERVAL;VALUE=DURATION:PT1H
X-Robots-Tag:noindex
X-PUBLISHED-TTL:PT1H
BEGIN:VTIMEZONE
TZID:Europe/Madrid
BEGIN:DAYLIGHT
TZOFFSETFROM:+0100
TZOFFSETTO:+0200
TZNAME:CEST
DTSTART:20240331T010000
END:DAYLIGHT
BEGIN:STANDARD
TZOFFSETFROM:+0200
TZOFFSETTO:+0100
TZNAME:CET
DTSTART:20241027T010000
END:STANDARD
BEGIN:DAYLIGHT
TZOFFSETFROM:+0100
TZOFFSETTO:+0200
TZNAME:CEST
DTSTART:20250330T010000
END:DAYLIGHT
BEGIN:STANDARD
TZOFFSETFROM:+0200
TZOFFSETTO:+0100
TZNAME:CET
DTSTART:20251026T010000
END:STANDARD
BEGIN:DAYLIGHT
TZOFFSETFROM:+0100
TZOFFSETTO:+0200
TZNAME:CEST
DTSTART:20260329T010000
END:DAYLIGHT
BEGIN:STANDARD
TZOFFSETFROM:+0200
TZOFFSETTO:+0100
TZNAME:CET
DTSTART:20261025T010000
END:STANDARD
END:VTIMEZONE
BEGIN:VEVENT
DTSTART;TZID=Europe/Madrid:20250119T110000
DTEND;TZID=Europe/Madrid:20250119T140000
DTSTAMP:20260422T121220
CREATED:20250112T121329Z
LAST-MODIFIED:20250114T101315Z
UID:538-1737284400-1737295200@casadelbarriocarabanchel.es
SUMMARY:Charla/Coloquio "La represión del franquismo y la cárcel de Carabanchel"
DESCRIPTION:En esta charla se expondrá una breve contextualización sobre la situación de España a principios del siglo XX y durante el Franquismo\, enfatizando la realidad de Madrid y Carabanchel. Durante la charla participarán distintos ponentes\, entre los que contamos con una arqueóloga con bastante conocimiento sobre la antigua Cárcel de Carabanchel y un antiguo miembro de la Juventud Comunista en los últimos años del Franquismo y durante la Transición. Por último\, contaremos con la presencia de la Asociación Vecinal de Carabanchel Alto que detallará su experiencia de lucha contra los proyectos urbanísticos que han pretendido impulsar desde el Ayuntamiento de Madrid en los terrenos de la cárcel. Posteriormente\, disfrutaremos de un aperitivo en el que poder compartir un rato agradable.
URL:https://casadelbarriocarabanchel.es/event/charla-coloquio-la-carcel-de-carabanchel/
END:VEVENT
END:VCALENDAR