BEGIN:VCALENDAR
VERSION:2.0
PRODID:-//Casa del Barrio  de Carabanchel - ECPv6.15.20//NONSGML v1.0//EN
CALSCALE:GREGORIAN
METHOD:PUBLISH
X-ORIGINAL-URL:https://casadelbarriocarabanchel.es
X-WR-CALDESC:Eventos para Casa del Barrio  de Carabanchel
REFRESH-INTERVAL;VALUE=DURATION:PT1H
X-Robots-Tag:noindex
X-PUBLISHED-TTL:PT1H
BEGIN:VTIMEZONE
TZID:Europe/Madrid
BEGIN:DAYLIGHT
TZOFFSETFROM:+0100
TZOFFSETTO:+0200
TZNAME:CEST
DTSTART:20240331T010000
END:DAYLIGHT
BEGIN:STANDARD
TZOFFSETFROM:+0200
TZOFFSETTO:+0100
TZNAME:CET
DTSTART:20241027T010000
END:STANDARD
BEGIN:DAYLIGHT
TZOFFSETFROM:+0100
TZOFFSETTO:+0200
TZNAME:CEST
DTSTART:20250330T010000
END:DAYLIGHT
BEGIN:STANDARD
TZOFFSETFROM:+0200
TZOFFSETTO:+0100
TZNAME:CET
DTSTART:20251026T010000
END:STANDARD
BEGIN:DAYLIGHT
TZOFFSETFROM:+0100
TZOFFSETTO:+0200
TZNAME:CEST
DTSTART:20260329T010000
END:DAYLIGHT
BEGIN:STANDARD
TZOFFSETFROM:+0200
TZOFFSETTO:+0100
TZNAME:CET
DTSTART:20261025T010000
END:STANDARD
END:VTIMEZONE
BEGIN:VEVENT
DTSTART;TZID=Europe/Madrid:20250117T190000
DTEND;TZID=Europe/Madrid:20250117T190000
DTSTAMP:20260422T121158
CREATED:20250110T110145Z
LAST-MODIFIED:20250110T110145Z
UID:526-1737140400-1737140400@casadelbarriocarabanchel.es
SUMMARY:Acto solidario "Las 6 de la Suiza"
DESCRIPTION:Acto de solidaridad con el caso “Las 6 de la Suiza”\, trabajadoras de una empresa de Gijón\, a quienes\, por defender honestamente sus derechos\, han terminado con una condena a tres años de cárcel ¡Hacer sindicalismo no es delito! \nEn el acto se contará cómo ha sido este proceso de criminalización hacia las sindicalistas de Gijón\, y también se hablará de luchas actuales de la mujer trabajadora\, como las Kellys (hoteles) o las del SAD (Servicio Ayuda a Domicilio)\, con la participación de trabajadoras de cada sector. \nAl finalizar compartiremos una cena informal para recaudar fondos para las encausadas.
URL:https://casadelbarriocarabanchel.es/event/acto-solidario-las-6-de-la-suiza/
END:VEVENT
END:VCALENDAR