BEGIN:VCALENDAR
VERSION:2.0
PRODID:-//Casa del Barrio  de Carabanchel - ECPv6.15.20//NONSGML v1.0//EN
CALSCALE:GREGORIAN
METHOD:PUBLISH
X-ORIGINAL-URL:https://casadelbarriocarabanchel.es
X-WR-CALDESC:Eventos para Casa del Barrio  de Carabanchel
REFRESH-INTERVAL;VALUE=DURATION:PT1H
X-Robots-Tag:noindex
X-PUBLISHED-TTL:PT1H
BEGIN:VTIMEZONE
TZID:Europe/Madrid
BEGIN:DAYLIGHT
TZOFFSETFROM:+0100
TZOFFSETTO:+0200
TZNAME:CEST
DTSTART:20230326T010000
END:DAYLIGHT
BEGIN:STANDARD
TZOFFSETFROM:+0200
TZOFFSETTO:+0100
TZNAME:CET
DTSTART:20231029T010000
END:STANDARD
BEGIN:DAYLIGHT
TZOFFSETFROM:+0100
TZOFFSETTO:+0200
TZNAME:CEST
DTSTART:20240331T010000
END:DAYLIGHT
BEGIN:STANDARD
TZOFFSETFROM:+0200
TZOFFSETTO:+0100
TZNAME:CET
DTSTART:20241027T010000
END:STANDARD
BEGIN:DAYLIGHT
TZOFFSETFROM:+0100
TZOFFSETTO:+0200
TZNAME:CEST
DTSTART:20250330T010000
END:DAYLIGHT
BEGIN:STANDARD
TZOFFSETFROM:+0200
TZOFFSETTO:+0100
TZNAME:CET
DTSTART:20251026T010000
END:STANDARD
END:VTIMEZONE
BEGIN:VEVENT
DTSTART;TZID=Europe/Madrid:20241228T210000
DTEND;TZID=Europe/Madrid:20241228T210000
DTSTAMP:20260424T101814
CREATED:20241121T085103Z
LAST-MODIFIED:20241121T085103Z
UID:485-1735419600-1735419600@casadelbarriocarabanchel.es
SUMMARY:Concierto "Rojo Cancionero"
DESCRIPTION:Rojo Cancionero canta “Banderas Rotas” \nHace muchos años que nos acercamos cada fin de año a la Casa del Barrio de Carabanchel a cantar nuestro Rojo Cancionero\, ejercicio de memoria histórica\, música y poética\, que pretende rescatar del olvido esas canciones escritas para el pueblo desde el pueblo. \nEl proyecto de Rojo en un primer momento se llamó\, “rojo cancionero y banderas rotas” luego con el transcurso del acontecimiento\, decidimos identificar el proyecto como “Rojo Cancionero”. Las banderas las cosimos y volvimos a sacar a las calles en cada una de las mareas que aún a día de hoy formamos parte de esa lucha activa por la justicia\, la libertad y la dignidad. \n“Banderas Rotas” es nuestro primer repertorio\, digamos que es con el que comenzamos este proyecto\, ahí por mayo de 2010. Lo recordamos este próximo sábado 28 de diciembre en la Casa del Barrio. \n Organizan como siempre las compañeras y compañeros del Ateneo republicano de Carabanchel.
URL:https://casadelbarriocarabanchel.es/event/concierto-rojo-cancionero/
END:VEVENT
END:VCALENDAR