BEGIN:VCALENDAR
VERSION:2.0
PRODID:-//Casa del Barrio  de Carabanchel - ECPv6.15.20//NONSGML v1.0//EN
CALSCALE:GREGORIAN
METHOD:PUBLISH
X-WR-CALNAME:Casa del Barrio  de Carabanchel
X-ORIGINAL-URL:https://casadelbarriocarabanchel.es
X-WR-CALDESC:Eventos para Casa del Barrio  de Carabanchel
REFRESH-INTERVAL;VALUE=DURATION:PT1H
X-Robots-Tag:noindex
X-PUBLISHED-TTL:PT1H
BEGIN:VTIMEZONE
TZID:Europe/Madrid
BEGIN:DAYLIGHT
TZOFFSETFROM:+0100
TZOFFSETTO:+0200
TZNAME:CEST
DTSTART:20230326T010000
END:DAYLIGHT
BEGIN:STANDARD
TZOFFSETFROM:+0200
TZOFFSETTO:+0100
TZNAME:CET
DTSTART:20231029T010000
END:STANDARD
BEGIN:DAYLIGHT
TZOFFSETFROM:+0100
TZOFFSETTO:+0200
TZNAME:CEST
DTSTART:20240331T010000
END:DAYLIGHT
BEGIN:STANDARD
TZOFFSETFROM:+0200
TZOFFSETTO:+0100
TZNAME:CET
DTSTART:20241027T010000
END:STANDARD
BEGIN:DAYLIGHT
TZOFFSETFROM:+0100
TZOFFSETTO:+0200
TZNAME:CEST
DTSTART:20250330T010000
END:DAYLIGHT
BEGIN:STANDARD
TZOFFSETFROM:+0200
TZOFFSETTO:+0100
TZNAME:CET
DTSTART:20251026T010000
END:STANDARD
END:VTIMEZONE
BEGIN:VEVENT
DTSTART;TZID=Europe/Madrid:20241221T180000
DTEND;TZID=Europe/Madrid:20241221T180000
DTSTAMP:20260422T134503
CREATED:20241125T102853Z
LAST-MODIFIED:20241125T103018Z
UID:490-1734804000-1734804000@casadelbarriocarabanchel.es
SUMMARY:Chocobingo solidario "Asociación Acontrapié ayuda a Paiporta"
DESCRIPTION:Raquel y Emanuele\, una pareja de Paiporta\, han perdido su casa y pertenencias a causa de la DANA\, incluyendo las cosas que ya habían comprado para su futura hija Giulia\, que nacerá en marzo. Estamos en contacto con ellos\, tienen fuerza y energía para salir adelante\, pero necesitan ayuda. Por eso\, desde Acontrapié te invitamos a aportar tu granito de arena. ¡Anímate a colaborar con esta buena causa! \nCHOCOBINGO SOLIDARIO\nCuándo: Sábado 21 diciembre – 18:00h\nDónde: «Casa del Barrio Carabanchel» (Av. Carabanchel Alto\, 64)\nMetro Carabanchel Alto (L11) | Bus 35\, 47\, 481\, 482\, 491\, 492\, 493
URL:https://casadelbarriocarabanchel.es/event/chocobingo-solidario-asociacion-acontrapie-ayuda-a-paiporta/
END:VEVENT
END:VCALENDAR