BEGIN:VCALENDAR
VERSION:2.0
PRODID:-//Casa del Barrio  de Carabanchel - ECPv6.15.20//NONSGML v1.0//EN
CALSCALE:GREGORIAN
METHOD:PUBLISH
X-ORIGINAL-URL:https://casadelbarriocarabanchel.es
X-WR-CALDESC:Eventos para Casa del Barrio  de Carabanchel
REFRESH-INTERVAL;VALUE=DURATION:PT1H
X-Robots-Tag:noindex
X-PUBLISHED-TTL:PT1H
BEGIN:VTIMEZONE
TZID:Europe/Madrid
BEGIN:DAYLIGHT
TZOFFSETFROM:+0100
TZOFFSETTO:+0200
TZNAME:CEST
DTSTART:20230326T010000
END:DAYLIGHT
BEGIN:STANDARD
TZOFFSETFROM:+0200
TZOFFSETTO:+0100
TZNAME:CET
DTSTART:20231029T010000
END:STANDARD
BEGIN:DAYLIGHT
TZOFFSETFROM:+0100
TZOFFSETTO:+0200
TZNAME:CEST
DTSTART:20240331T010000
END:DAYLIGHT
BEGIN:STANDARD
TZOFFSETFROM:+0200
TZOFFSETTO:+0100
TZNAME:CET
DTSTART:20241027T010000
END:STANDARD
BEGIN:DAYLIGHT
TZOFFSETFROM:+0100
TZOFFSETTO:+0200
TZNAME:CEST
DTSTART:20250330T010000
END:DAYLIGHT
BEGIN:STANDARD
TZOFFSETFROM:+0200
TZOFFSETTO:+0100
TZNAME:CET
DTSTART:20251026T010000
END:STANDARD
END:VTIMEZONE
BEGIN:VEVENT
DTSTART;TZID=Europe/Madrid:20241108T210000
DTEND;TZID=Europe/Madrid:20241108T210000
DTSTAMP:20260422T153344
CREATED:20241021T080643Z
LAST-MODIFIED:20241030T075557Z
UID:400-1731099600-1731099600@casadelbarriocarabanchel.es
SUMMARY:Concierto "Orlis Pineda"
DESCRIPTION:Viernes 8 noviembre\, 21h\, Concierto de Orlis Pineda \n El cañautor cubano-vallekano\, siempre al lado de la esperanza\, por eso este concierto será dedicado a Cuba\, a Palestina … y a todos los pueblos que luchan por su soberanía
URL:https://casadelbarriocarabanchel.es/event/concierto-orlis-pineda/
END:VEVENT
END:VCALENDAR