BEGIN:VCALENDAR
VERSION:2.0
PRODID:-//Casa del Barrio  de Carabanchel - ECPv6.15.20//NONSGML v1.0//EN
CALSCALE:GREGORIAN
METHOD:PUBLISH
X-WR-CALNAME:Casa del Barrio  de Carabanchel
X-ORIGINAL-URL:https://casadelbarriocarabanchel.es
X-WR-CALDESC:Eventos para Casa del Barrio  de Carabanchel
REFRESH-INTERVAL;VALUE=DURATION:PT1H
X-Robots-Tag:noindex
X-PUBLISHED-TTL:PT1H
BEGIN:VTIMEZONE
TZID:Europe/Paris
BEGIN:DAYLIGHT
TZOFFSETFROM:+0100
TZOFFSETTO:+0200
TZNAME:CEST
DTSTART:20230326T010000
END:DAYLIGHT
BEGIN:STANDARD
TZOFFSETFROM:+0200
TZOFFSETTO:+0100
TZNAME:CET
DTSTART:20231029T010000
END:STANDARD
BEGIN:DAYLIGHT
TZOFFSETFROM:+0100
TZOFFSETTO:+0200
TZNAME:CEST
DTSTART:20240331T010000
END:DAYLIGHT
BEGIN:STANDARD
TZOFFSETFROM:+0200
TZOFFSETTO:+0100
TZNAME:CET
DTSTART:20241027T010000
END:STANDARD
BEGIN:DAYLIGHT
TZOFFSETFROM:+0100
TZOFFSETTO:+0200
TZNAME:CEST
DTSTART:20250330T010000
END:DAYLIGHT
BEGIN:STANDARD
TZOFFSETFROM:+0200
TZOFFSETTO:+0100
TZNAME:CET
DTSTART:20251026T010000
END:STANDARD
END:VTIMEZONE
BEGIN:VEVENT
DTSTART;TZID=Europe/Paris:20241026T200000
DTEND;TZID=Europe/Paris:20241026T200000
DTSTAMP:20260422T165232
CREATED:20240930T080027Z
LAST-MODIFIED:20241008T065154Z
UID:221-1729972800-1729972800@casadelbarriocarabanchel.es
SUMMARY:Teatro "El Casting (monólogos de Shakespeare)"
DESCRIPTION:Obra en tono de comedia\, teatro del absurdo\, crítica social… Trata sobre cómo se sienten y se comportan diferentes personas ( personajes variopintos ) ante la presión de un casting y durante el tiempo de espera antes de hacer la audición; egos\, envidias\, rivalidades\, también inocencia\, ternura…escrita y dirigida por Concha de Diego Aguado.\nObra representada por el grupo de teatro del Centro Cultural San Francisco la Prensa\, Carabanchel\, Madrid. Para todos los públicos\, entrada libre hasta completar aforo.
URL:https://casadelbarriocarabanchel.es/event/teatro-el-casting-monologos-de-shakespeare/
END:VEVENT
END:VCALENDAR