BEGIN:VCALENDAR
VERSION:2.0
PRODID:-//Casa del Barrio  de Carabanchel - ECPv6.15.20//NONSGML v1.0//EN
CALSCALE:GREGORIAN
METHOD:PUBLISH
X-WR-CALNAME:Casa del Barrio  de Carabanchel
X-ORIGINAL-URL:https://casadelbarriocarabanchel.es
X-WR-CALDESC:Eventos para Casa del Barrio  de Carabanchel
REFRESH-INTERVAL;VALUE=DURATION:PT1H
X-Robots-Tag:noindex
X-PUBLISHED-TTL:PT1H
BEGIN:VTIMEZONE
TZID:Europe/Madrid
BEGIN:DAYLIGHT
TZOFFSETFROM:+0100
TZOFFSETTO:+0200
TZNAME:CEST
DTSTART:20230326T010000
END:DAYLIGHT
BEGIN:STANDARD
TZOFFSETFROM:+0200
TZOFFSETTO:+0100
TZNAME:CET
DTSTART:20231029T010000
END:STANDARD
BEGIN:DAYLIGHT
TZOFFSETFROM:+0100
TZOFFSETTO:+0200
TZNAME:CEST
DTSTART:20240331T010000
END:DAYLIGHT
BEGIN:STANDARD
TZOFFSETFROM:+0200
TZOFFSETTO:+0100
TZNAME:CET
DTSTART:20241027T010000
END:STANDARD
BEGIN:DAYLIGHT
TZOFFSETFROM:+0100
TZOFFSETTO:+0200
TZNAME:CEST
DTSTART:20250330T010000
END:DAYLIGHT
BEGIN:STANDARD
TZOFFSETFROM:+0200
TZOFFSETTO:+0100
TZNAME:CET
DTSTART:20251026T010000
END:STANDARD
END:VTIMEZONE
BEGIN:VEVENT
DTSTART;TZID=Europe/Madrid:20241020T123000
DTEND;TZID=Europe/Madrid:20241020T160000
DTSTAMP:20260422T181904
CREATED:20241001T072308Z
LAST-MODIFIED:20241009T053501Z
UID:227-1729427400-1729440000@casadelbarriocarabanchel.es
SUMMARY:Presentación disco "Miguel Hernández : Victoria y Guitarras"
DESCRIPTION:Dos cantautores musicando la obra del poeta Universal del pueblo Miguel Hernandez. \nUn proyecto (Victoria Guitarras) compartido con Ateneo Cultural Vientos del Pueblo\, Consellería de Calidad Democrática y la Fundación Cultural Miguel Hernández de Orihuela. \nUna obra donde el camino de la poesía\, nos abre las puertas de los acordes de la memoria. \nQuince años de trabajo y homenaje\, que culminan con la edición de: \nVICTORIA Y GUITARRAS.
URL:https://casadelbarriocarabanchel.es/event/acto-sobre-miguel-hernandez/
END:VEVENT
BEGIN:VEVENT
DTSTART;TZID=Europe/Madrid:20241020T190000
DTEND;TZID=Europe/Madrid:20241020T190000
DTSTAMP:20260422T181904
CREATED:20241001T072553Z
LAST-MODIFIED:20241009T053444Z
UID:229-1729450800-1729450800@casadelbarriocarabanchel.es
SUMMARY:Teatro "Guapa y La Masajista"
DESCRIPTION:“Guapa Y La Masajista”\nEs una obra cómica\, resultado de la unión de dos piezas de micro teatro: «Guapa» en lenguaje de clown y «La Masajista» un monologo cómico.\nAmbos personajes a través de la ternura y la inocencia\, se embarcan en un viaje turbulento\, lleno de risas y lágrimas\, viviendo todo lo que sea necesario\, por perseguir el deseo de sentirse queridas.
URL:https://casadelbarriocarabanchel.es/event/teatro-obra-por-confirmar/
END:VEVENT
END:VCALENDAR