BEGIN:VCALENDAR
VERSION:2.0
PRODID:-//Casa del Barrio  de Carabanchel - ECPv6.15.20//NONSGML v1.0//EN
CALSCALE:GREGORIAN
METHOD:PUBLISH
X-ORIGINAL-URL:https://casadelbarriocarabanchel.es
X-WR-CALDESC:Eventos para Casa del Barrio  de Carabanchel
REFRESH-INTERVAL;VALUE=DURATION:PT1H
X-Robots-Tag:noindex
X-PUBLISHED-TTL:PT1H
BEGIN:VTIMEZONE
TZID:Europe/Paris
BEGIN:DAYLIGHT
TZOFFSETFROM:+0100
TZOFFSETTO:+0200
TZNAME:CEST
DTSTART:20230326T010000
END:DAYLIGHT
BEGIN:STANDARD
TZOFFSETFROM:+0200
TZOFFSETTO:+0100
TZNAME:CET
DTSTART:20231029T010000
END:STANDARD
BEGIN:DAYLIGHT
TZOFFSETFROM:+0100
TZOFFSETTO:+0200
TZNAME:CEST
DTSTART:20240331T010000
END:DAYLIGHT
BEGIN:STANDARD
TZOFFSETFROM:+0200
TZOFFSETTO:+0100
TZNAME:CET
DTSTART:20241027T010000
END:STANDARD
BEGIN:DAYLIGHT
TZOFFSETFROM:+0100
TZOFFSETTO:+0200
TZNAME:CEST
DTSTART:20250330T010000
END:DAYLIGHT
BEGIN:STANDARD
TZOFFSETFROM:+0200
TZOFFSETTO:+0100
TZNAME:CET
DTSTART:20251026T010000
END:STANDARD
END:VTIMEZONE
BEGIN:VEVENT
DTSTART;TZID=Europe/Paris:20241005T193000
DTEND;TZID=Europe/Paris:20241005T193000
DTSTAMP:20260424T120241
CREATED:20240930T074043Z
LAST-MODIFIED:20241008T070850Z
UID:214-1728156600-1728156600@casadelbarriocarabanchel.es
SUMMARY:Concierto "José Estragos Band"
DESCRIPTION:Si te gustan THE BEATLES\, LOS BRINCOS\, y algo mas de Rock’n’roll\, te gustará está banda. \nRecién aterrizados de Liverpool\, donde han actuado en el mítico CAVERN CLUB donde tantas veces actuaron The Beatles. \nSonido brillante\, con melodías que te recordarán los 60′ (la mejor época). \nJOSE ESTRAGOS: GUITARRA y VOZ\nJIMMY SKINNY: BATERIA Y VOZ\nBEAT TONNY: BAJO Y VOZ \nJosé Estragos con 3 discos ya grabados\, en breve editarán el 4º y en diciembre volverán a New York donde ya estuvieron.
URL:https://casadelbarriocarabanchel.es/event/concierto-jose-estragos-band/
END:VEVENT
END:VCALENDAR